BEGIN:VCALENDAR
VERSION:2.0
PRODID:-//M de Música - ECPv5.14.1//NONSGML v1.0//EN
CALSCALE:GREGORIAN
METHOD:PUBLISH
X-WR-CALNAME:M de Música
X-ORIGINAL-URL:http://mdemusica.pt
X-WR-CALDESC:Events for M de Música
BEGIN:VTIMEZONE
TZID:Europe/Lisbon
BEGIN:DAYLIGHT
TZOFFSETFROM:+0000
TZOFFSETTO:+0100
TZNAME:WEST
DTSTART:20170326T010000
END:DAYLIGHT
BEGIN:STANDARD
TZOFFSETFROM:+0100
TZOFFSETTO:+0000
TZNAME:WET
DTSTART:20171029T010000
END:STANDARD
END:VTIMEZONE
BEGIN:VEVENT
DTSTART;VALUE=DATE:20171014
DTEND;VALUE=DATE:20171015
DTSTAMP:20260420T153453
CREATED:20170422T163930Z
LAST-MODIFIED:20170422T163930Z
UID:10808-1507939200-1508025599@mdemusica.pt
SUMMARY:Resistência\, Pavilhão Multiusos\, Guimarães
DESCRIPTION:
URL:http://mdemusica.pt/agenda/resistencia-pavilhao-multiusos-guimaraes/
LOCATION:Pavilhão Multiusos Guimarães\, Alameda Cidade de Lisboa 481\, \, Guimarães\, 4835-037\, Portugal
ATTACH;FMTTYPE=image/jpeg:http://mdemusica.pt/wp-content/uploads/2017/04/unnamed1.jpg
END:VEVENT
END:VCALENDAR