BEGIN:VCALENDAR
VERSION:2.0
PRODID:-//M de Música - ECPv5.14.1//NONSGML v1.0//EN
CALSCALE:GREGORIAN
METHOD:PUBLISH
X-WR-CALNAME:M de Música
X-ORIGINAL-URL:http://mdemusica.pt
X-WR-CALDESC:Events for M de Música
BEGIN:VTIMEZONE
TZID:Europe/Lisbon
BEGIN:DAYLIGHT
TZOFFSETFROM:+0000
TZOFFSETTO:+0100
TZNAME:WEST
DTSTART:20200329T010000
END:DAYLIGHT
BEGIN:STANDARD
TZOFFSETFROM:+0100
TZOFFSETTO:+0000
TZNAME:WET
DTSTART:20201025T010000
END:STANDARD
END:VTIMEZONE
BEGIN:VEVENT
DTSTART;VALUE=DATE:20200523
DTEND;VALUE=DATE:20200524
DTSTAMP:20260420T004922
CREATED:20200121T130257Z
LAST-MODIFIED:20200121T130257Z
UID:20108-1590192000-1590278399@mdemusica.pt
SUMMARY:Quarteto Jobim & Maria Rita\, Centro de Artes e Espectáculos\, Figueira da Foz
DESCRIPTION:
URL:http://mdemusica.pt/agenda/quarteto-jobim-maria-rita-centro-artes-espectaculos-figueira-da-foz/
LOCATION:\, Centro de Artes e Espectáculos Figueira da Foz\, Rua Abade Pedro\, Figueira da Foz\, 3080-084\, Portugal
ATTACH;FMTTYPE=image/png:http://mdemusica.pt/wp-content/uploads/2020/01/Screen-Shot-2020-01-21-at-12.53.15.png
END:VEVENT
END:VCALENDAR