BEGIN:VCALENDAR
VERSION:2.0
PRODID:-//M de Música - ECPv5.14.1//NONSGML v1.0//EN
CALSCALE:GREGORIAN
METHOD:PUBLISH
X-WR-CALNAME:M de Música
X-ORIGINAL-URL:http://mdemusica.pt
X-WR-CALDESC:Events for M de Música
BEGIN:VTIMEZONE
TZID:UTC
BEGIN:STANDARD
TZOFFSETFROM:+0000
TZOFFSETTO:+0000
TZNAME:UTC
DTSTART:20160101T000000
END:STANDARD
END:VTIMEZONE
BEGIN:VEVENT
DTSTART;VALUE=DATE:20160516
DTEND;VALUE=DATE:20160517
DTSTAMP:20260420T223647
CREATED:20160511T005934Z
LAST-MODIFIED:20160531T172616Z
UID:6165-1463356800-1463443199@mdemusica.pt
SUMMARY:Peter Murphy
DESCRIPTION:– Aula Magna
URL:http://mdemusica.pt/agenda/peter-murphy/
LOCATION:Aula Magna\, Aula Magna\, Avenida Professor Gama Pinto 3\,  Lisboa
END:VEVENT
END:VCALENDAR