BEGIN:VCALENDAR
VERSION:2.0
PRODID:-//M de Música - ECPv5.14.1//NONSGML v1.0//EN
CALSCALE:GREGORIAN
METHOD:PUBLISH
X-WR-CALNAME:M de Música
X-ORIGINAL-URL:http://mdemusica.pt
X-WR-CALDESC:Events for M de Música
BEGIN:VTIMEZONE
TZID:Europe/Lisbon
BEGIN:DAYLIGHT
TZOFFSETFROM:+0000
TZOFFSETTO:+0100
TZNAME:WEST
DTSTART:20160327T010000
END:DAYLIGHT
BEGIN:STANDARD
TZOFFSETFROM:+0100
TZOFFSETTO:+0000
TZNAME:WET
DTSTART:20161030T010000
END:STANDARD
END:VTIMEZONE
BEGIN:VEVENT
DTSTART;VALUE=DATE:20160802
DTEND;VALUE=DATE:20160803
DTSTAMP:20260420T175834
CREATED:20160531T163528Z
LAST-MODIFIED:20160531T163605Z
UID:6773-1470096000-1470182399@mdemusica.pt
SUMMARY:Orelha Negra
DESCRIPTION:– Expofacic\, Cantanhede
URL:http://mdemusica.pt/agenda/orelha-negra-expofacic/
LOCATION:Expofacic\, Parque Expo-Desportivo de S. Mateus\, Coimbra\, Cantanhede\, Portugal
END:VEVENT
END:VCALENDAR