BEGIN:VCALENDAR
VERSION:2.0
PRODID:-//M de Música - ECPv5.14.1//NONSGML v1.0//EN
CALSCALE:GREGORIAN
METHOD:PUBLISH
X-WR-CALNAME:M de Música
X-ORIGINAL-URL:http://mdemusica.pt
X-WR-CALDESC:Events for M de Música
BEGIN:VTIMEZONE
TZID:Europe/Lisbon
BEGIN:DAYLIGHT
TZOFFSETFROM:+0000
TZOFFSETTO:+0100
TZNAME:WEST
DTSTART:20160327T010000
END:DAYLIGHT
BEGIN:STANDARD
TZOFFSETFROM:+0100
TZOFFSETTO:+0000
TZNAME:WET
DTSTART:20161030T010000
END:STANDARD
END:VTIMEZONE
BEGIN:VEVENT
DTSTART;VALUE=DATE:20160726
DTEND;VALUE=DATE:20160727
DTSTAMP:20260420T192614
CREATED:20160531T005155Z
LAST-MODIFIED:20160531T005155Z
UID:6660-1469491200-1469577599@mdemusica.pt
SUMMARY:Omara Portuondo com Diego el Cigala
DESCRIPTION:– edpcooljazz\, Jardins do Marquês de Pombal\, Oeiras 
URL:http://mdemusica.pt/agenda/omara-portuondo-diego-el-cigala/
LOCATION:JARDINS MARQUÊS DE POMBAL\, OEIRAS\, Largo Marquês de Pombal\, Lisboa\, Portugal
END:VEVENT
END:VCALENDAR