BEGIN:VCALENDAR
VERSION:2.0
PRODID:-//M de Música - ECPv5.14.1//NONSGML v1.0//EN
CALSCALE:GREGORIAN
METHOD:PUBLISH
X-WR-CALNAME:M de Música
X-ORIGINAL-URL:http://mdemusica.pt
X-WR-CALDESC:Events for M de Música
BEGIN:VTIMEZONE
TZID:Europe/Lisbon
BEGIN:DAYLIGHT
TZOFFSETFROM:+0000
TZOFFSETTO:+0100
TZNAME:WEST
DTSTART:20170326T010000
END:DAYLIGHT
BEGIN:STANDARD
TZOFFSETFROM:+0100
TZOFFSETTO:+0000
TZNAME:WET
DTSTART:20171029T010000
END:STANDARD
END:VTIMEZONE
BEGIN:VEVENT
DTSTART;VALUE=DATE:20170301
DTEND;VALUE=DATE:20170302
DTSTAMP:20260420T074516
CREATED:20170206T175811Z
LAST-MODIFIED:20170206T175811Z
UID:9952-1488326400-1488412799@mdemusica.pt
SUMMARY:Noa Lur\, Hot Clube\, Lisboa
DESCRIPTION:
URL:http://mdemusica.pt/agenda/noa-lur-hot-clube-lisboa/
LOCATION:Hot Clube\, Praça da Alegria 48\, Lisboa\,  1250-004 \, Portugal
ATTACH;FMTTYPE=image/png:http://mdemusica.pt/wp-content/uploads/2017/02/Noa-Lur-Hot-Clube-Lisboa.png
END:VEVENT
END:VCALENDAR