BEGIN:VCALENDAR
VERSION:2.0
PRODID:-//M de Música - ECPv5.14.1//NONSGML v1.0//EN
CALSCALE:GREGORIAN
METHOD:PUBLISH
X-WR-CALNAME:M de Música
X-ORIGINAL-URL:http://mdemusica.pt
X-WR-CALDESC:Events for M de Música
BEGIN:VTIMEZONE
TZID:Europe/Lisbon
BEGIN:DAYLIGHT
TZOFFSETFROM:+0000
TZOFFSETTO:+0100
TZNAME:WEST
DTSTART:20160327T010000
END:DAYLIGHT
BEGIN:STANDARD
TZOFFSETFROM:+0100
TZOFFSETTO:+0000
TZNAME:WET
DTSTART:20161030T010000
END:STANDARD
END:VTIMEZONE
BEGIN:VEVENT
DTSTART;VALUE=DATE:20160804
DTEND;VALUE=DATE:20160807
DTSTAMP:20260420T175320
CREATED:20160531T021327Z
LAST-MODIFIED:20160531T112808Z
UID:6685-1470268800-1470527999@mdemusica.pt
SUMMARY:Neopop
DESCRIPTION:– Forte de Santiago da Barra\, Viana do Castelo
URL:http://mdemusica.pt/agenda/neopop/
LOCATION:Forte de Santiago da Barra\, Campo do Castelo\, Monserrate \, Viana do Castelo\, 4900-372 \, Portugal
END:VEVENT
END:VCALENDAR