BEGIN:VCALENDAR
VERSION:2.0
PRODID:-//M de Música - ECPv5.14.1//NONSGML v1.0//EN
CALSCALE:GREGORIAN
METHOD:PUBLISH
X-WR-CALNAME:M de Música
X-ORIGINAL-URL:http://mdemusica.pt
X-WR-CALDESC:Events for M de Música
BEGIN:VTIMEZONE
TZID:Europe/Lisbon
BEGIN:DAYLIGHT
TZOFFSETFROM:+0000
TZOFFSETTO:+0100
TZNAME:WEST
DTSTART:20160327T010000
END:DAYLIGHT
BEGIN:STANDARD
TZOFFSETFROM:+0100
TZOFFSETTO:+0000
TZNAME:WET
DTSTART:20161030T010000
END:STANDARD
END:VTIMEZONE
BEGIN:VEVENT
DTSTART;VALUE=DATE:20161031
DTEND;VALUE=DATE:20161101
DTSTAMP:20260419T151650
CREATED:20161024T124137Z
LAST-MODIFIED:20161024T131532Z
UID:8937-1477872000-1477958399@mdemusica.pt
SUMMARY:Moderat
DESCRIPTION:LX Factory\, Lisboa
URL:http://mdemusica.pt/agenda/moderat/
LOCATION:LxFactory\, R. Rodrigues de Faria 103\,  Lisboa\, 1300\, Portugal
END:VEVENT
END:VCALENDAR