BEGIN:VCALENDAR
VERSION:2.0
PRODID:-//M de Música - ECPv5.14.1//NONSGML v1.0//EN
CALSCALE:GREGORIAN
METHOD:PUBLISH
X-WR-CALNAME:M de Música
X-ORIGINAL-URL:http://mdemusica.pt
X-WR-CALDESC:Events for M de Música
BEGIN:VTIMEZONE
TZID:Europe/Lisbon
BEGIN:DAYLIGHT
TZOFFSETFROM:+0000
TZOFFSETTO:+0100
TZNAME:WEST
DTSTART:20170326T010000
END:DAYLIGHT
BEGIN:STANDARD
TZOFFSETFROM:+0100
TZOFFSETTO:+0000
TZNAME:WET
DTSTART:20171029T010000
END:STANDARD
END:VTIMEZONE
BEGIN:VEVENT
DTSTART;VALUE=DATE:20171111
DTEND;VALUE=DATE:20171112
DTSTAMP:20260425T225239
CREATED:20170630T134422Z
LAST-MODIFIED:20170630T134422Z
UID:11902-1510358400-1510444799@mdemusica.pt
SUMMARY:Misty Fest: Gaiteiros de Lisboa\, Teatro Tivoli BBVA\, Lisboa
DESCRIPTION:
URL:http://mdemusica.pt/agenda/misty-fest-gaiteiros-lisboa-teatro-tivoli-bbva-lisboa/
LOCATION:Teatro Tivoli BBVA\, Av. da Liberdade\, 182/188\, Lisboa\, 1250-146 \, Portugal
END:VEVENT
END:VCALENDAR