BEGIN:VCALENDAR
VERSION:2.0
PRODID:-//M de Música - ECPv5.14.1//NONSGML v1.0//EN
CALSCALE:GREGORIAN
METHOD:PUBLISH
X-WR-CALNAME:M de Música
X-ORIGINAL-URL:http://mdemusica.pt
X-WR-CALDESC:Events for M de Música
BEGIN:VTIMEZONE
TZID:Europe/Lisbon
BEGIN:DAYLIGHT
TZOFFSETFROM:+0000
TZOFFSETTO:+0100
TZNAME:WEST
DTSTART:20160327T010000
END:DAYLIGHT
BEGIN:STANDARD
TZOFFSETFROM:+0100
TZOFFSETTO:+0000
TZNAME:WET
DTSTART:20161030T010000
END:STANDARD
END:VTIMEZONE
BEGIN:VEVENT
DTSTART;VALUE=DATE:20160803
DTEND;VALUE=DATE:20160808
DTSTAMP:20260420T175222
CREATED:20160531T012418Z
LAST-MODIFIED:20160531T163958Z
UID:6669-1470182400-1470614399@mdemusica.pt
SUMMARY:Meo Sudoeste
DESCRIPTION:-Zambujeiro do Mar \n – Yellow Claw DVBBS Club Banditz – Wiz Khalifa Martin Garrix Virgul – Seu Jorge Damian “Jr. Gong” Marley Kura C4 Pedro – SIA James Morrison Steve Aoki – Steve Angello – SlimCutz & Ace\, B26 \n–Moche Rap Battle com Curadoria Orelha Negra (Orelha Negra DJ Set\, Holly Hood\, Slow J\, DJ Kwan\, Dynamic Duo\, ProfJam\, Maze e Nerve)\n\n\n–Landrick\, DJ Overule\, Von Di Carlo\n\n\n– Cali Y El Dandee\, Nervo\, Sunnery James & Ryan Marciano; Deejay Telio\, Pete Kingsman\, Ben Ambergen
URL:http://mdemusica.pt/agenda/meo-sudoeste/
LOCATION:Meo Sudoeste\, Herdade da Casa Branca\, Zambujeira do Mar\, Portugal
END:VEVENT
END:VCALENDAR