BEGIN:VCALENDAR
VERSION:2.0
PRODID:-//M de Música - ECPv5.14.1//NONSGML v1.0//EN
CALSCALE:GREGORIAN
METHOD:PUBLISH
X-WR-CALNAME:M de Música
X-ORIGINAL-URL:http://mdemusica.pt
X-WR-CALDESC:Events for M de Música
BEGIN:VTIMEZONE
TZID:Europe/Lisbon
BEGIN:DAYLIGHT
TZOFFSETFROM:+0000
TZOFFSETTO:+0100
TZNAME:WEST
DTSTART:20160327T010000
END:DAYLIGHT
BEGIN:STANDARD
TZOFFSETFROM:+0100
TZOFFSETTO:+0000
TZNAME:WET
DTSTART:20161030T010000
END:STANDARD
END:VTIMEZONE
BEGIN:VEVENT
DTSTART;VALUE=DATE:20160730
DTEND;VALUE=DATE:20160731
DTSTAMP:20260420T192542
CREATED:20160531T011422Z
LAST-MODIFIED:20160531T033409Z
UID:6666-1469836800-1469923199@mdemusica.pt
SUMMARY:Marisa Monte convida Carminho
DESCRIPTION:– Fundação de Serralves\, Porto
URL:http://mdemusica.pt/agenda/marisa-monte-convida-carminho-porto/
LOCATION:Fundação de Serralves\, R. Dom João de Castro 210\, Porto\, 4150-417\, Portugal
END:VEVENT
END:VCALENDAR