BEGIN:VCALENDAR
VERSION:2.0
PRODID:-//M de Música - ECPv5.14.1//NONSGML v1.0//EN
CALSCALE:GREGORIAN
METHOD:PUBLISH
X-WR-CALNAME:M de Música
X-ORIGINAL-URL:http://mdemusica.pt
X-WR-CALDESC:Events for M de Música
BEGIN:VTIMEZONE
TZID:Europe/Lisbon
BEGIN:DAYLIGHT
TZOFFSETFROM:+0000
TZOFFSETTO:+0100
TZNAME:WEST
DTSTART:20180325T010000
END:DAYLIGHT
BEGIN:STANDARD
TZOFFSETFROM:+0100
TZOFFSETTO:+0000
TZNAME:WET
DTSTART:20181028T010000
END:STANDARD
END:VTIMEZONE
BEGIN:VEVENT
DTSTART;VALUE=DATE:20181209
DTEND;VALUE=DATE:20181210
DTSTAMP:20260420T231035
CREATED:20181110T023909Z
LAST-MODIFIED:20181206T130614Z
UID:16368-1544313600-1544399999@mdemusica.pt
SUMMARY:LXM Sunday Special: Charlotte de Witte + convidados\, Pavilhão de Exposições da Tapada da Ajuda\, Lisboa
DESCRIPTION:
URL:http://mdemusica.pt/agenda/lxm-sunday-special-charlotte-witte-convidados-local-anunciar/
LOCATION:Tapada da Ajuda\, Lisboa
ATTACH;FMTTYPE=image/png:http://mdemusica.pt/wp-content/uploads/2018/11/Screen-Shot-2018-11-10-at-02.28.09.png
END:VEVENT
END:VCALENDAR