BEGIN:VCALENDAR
VERSION:2.0
PRODID:-//M de Música - ECPv5.14.1//NONSGML v1.0//EN
CALSCALE:GREGORIAN
METHOD:PUBLISH
X-WR-CALNAME:M de Música
X-ORIGINAL-URL:http://mdemusica.pt
X-WR-CALDESC:Events for M de Música
BEGIN:VTIMEZONE
TZID:Europe/Lisbon
BEGIN:DAYLIGHT
TZOFFSETFROM:+0000
TZOFFSETTO:+0100
TZNAME:WEST
DTSTART:20200329T010000
END:DAYLIGHT
BEGIN:STANDARD
TZOFFSETFROM:+0100
TZOFFSETTO:+0000
TZNAME:WET
DTSTART:20201025T010000
END:STANDARD
END:VTIMEZONE
BEGIN:VEVENT
DTSTART;VALUE=DATE:20200214
DTEND;VALUE=DATE:20200215
DTSTAMP:20260419T185757
CREATED:20191203T121647Z
LAST-MODIFIED:20191203T121647Z
UID:19705-1581638400-1581724799@mdemusica.pt
SUMMARY:João Pedro Pais\, Montepio Às Vezes o Amor\, Convento São Francisco\, Coimbra
DESCRIPTION:
URL:http://mdemusica.pt/agenda/joao-pedro-pais-montepio-as-vezes-amor-convento-sao-francisco-coimbra/
LOCATION:Convento de São Francisco\, Av. da Guarda Inglesa\, 1A \,  Coimbra\, 3040-293\, Portugal
ATTACH;FMTTYPE=image/png:http://mdemusica.pt/wp-content/uploads/2019/12/Screen-Shot-2019-12-03-at-11.59.49.png
END:VEVENT
END:VCALENDAR