BEGIN:VCALENDAR
VERSION:2.0
PRODID:-//M de Música - ECPv5.14.1//NONSGML v1.0//EN
CALSCALE:GREGORIAN
METHOD:PUBLISH
X-WR-CALNAME:M de Música
X-ORIGINAL-URL:http://mdemusica.pt
X-WR-CALDESC:Events for M de Música
BEGIN:VTIMEZONE
TZID:Europe/Lisbon
BEGIN:DAYLIGHT
TZOFFSETFROM:+0000
TZOFFSETTO:+0100
TZNAME:WEST
DTSTART:20200329T010000
END:DAYLIGHT
BEGIN:STANDARD
TZOFFSETFROM:+0100
TZOFFSETTO:+0000
TZNAME:WET
DTSTART:20201025T010000
END:STANDARD
END:VTIMEZONE
BEGIN:VEVENT
DTSTART;VALUE=DATE:20200609
DTEND;VALUE=DATE:20200610
DTSTAMP:20260421T015238
CREATED:20191113T142630Z
LAST-MODIFIED:20191113T142630Z
UID:19526-1591660800-1591747199@mdemusica.pt
SUMMARY:James Blunt\, Campo Pequeno\, Lisboa
DESCRIPTION:
URL:http://mdemusica.pt/agenda/james-blunt-campo-pequeno-lisboa/
LOCATION:Campo Pequeno\, Centro de Lazer Campo Pequeno 1000-082 Lisboa\, Lisboa\, 1000-082 \, Portugal
ATTACH;FMTTYPE=image/png:http://mdemusica.pt/wp-content/uploads/2019/11/Screen-Shot-2019-11-13-at-14.11.14.png
END:VEVENT
END:VCALENDAR