BEGIN:VCALENDAR
VERSION:2.0
PRODID:-//M de Música - ECPv5.14.1//NONSGML v1.0//EN
CALSCALE:GREGORIAN
METHOD:PUBLISH
X-WR-CALNAME:M de Música
X-ORIGINAL-URL:http://mdemusica.pt
X-WR-CALDESC:Events for M de Música
BEGIN:VTIMEZONE
TZID:Europe/Lisbon
BEGIN:DAYLIGHT
TZOFFSETFROM:+0000
TZOFFSETTO:+0100
TZNAME:WEST
DTSTART:20210328T010000
END:DAYLIGHT
BEGIN:STANDARD
TZOFFSETFROM:+0100
TZOFFSETTO:+0000
TZNAME:WET
DTSTART:20211031T010000
END:STANDARD
END:VTIMEZONE
BEGIN:VEVENT
DTSTART;VALUE=DATE:20210717
DTEND;VALUE=DATE:20210718
DTSTAMP:20260419T233059
CREATED:20210615T075227Z
LAST-MODIFIED:20210615T075227Z
UID:22010-1626480000-1626566399@mdemusica.pt
SUMMARY:Agir\, Lusco-Fusco\, Terraço\, Capitólio\, Lisboa
DESCRIPTION:
URL:http://mdemusica.pt/agenda/irma-lusco-fusco-terraco-capitolio-lisboa/
LOCATION:Capitólio\, Parque Mayer\, Lisboa\, 1250-164 Lisboa\, Portugal
ATTACH;FMTTYPE=image/jpeg:http://mdemusica.pt/wp-content/uploads/2021/06/unnamed-2.jpg
END:VEVENT
END:VCALENDAR