BEGIN:VCALENDAR
VERSION:2.0
PRODID:-//M de Música - ECPv5.14.1//NONSGML v1.0//EN
CALSCALE:GREGORIAN
METHOD:PUBLISH
X-WR-CALNAME:M de Música
X-ORIGINAL-URL:http://mdemusica.pt
X-WR-CALDESC:Events for M de Música
BEGIN:VTIMEZONE
TZID:Europe/Lisbon
BEGIN:DAYLIGHT
TZOFFSETFROM:+0000
TZOFFSETTO:+0100
TZNAME:WEST
DTSTART:20200329T010000
END:DAYLIGHT
BEGIN:STANDARD
TZOFFSETFROM:+0100
TZOFFSETTO:+0000
TZNAME:WET
DTSTART:20201025T010000
END:STANDARD
END:VTIMEZONE
BEGIN:VEVENT
DTSTART;VALUE=DATE:20201127
DTEND;VALUE=DATE:20201128
DTSTAMP:20260421T130155
CREATED:20201016T175916Z
LAST-MODIFIED:20201016T175916Z
UID:21439-1606435200-1606521599@mdemusica.pt
SUMMARY:Irma\, Capitólio\, Lisboa
DESCRIPTION:
URL:http://mdemusica.pt/agenda/irma-capitolio-lisboa/
LOCATION:Capitólio\, Parque Mayer\, Lisboa\, 1250-164 Lisboa\, Portugal
ATTACH;FMTTYPE=image/png:http://mdemusica.pt/wp-content/uploads/2020/10/Screen-Shot-2020-10-16-at-18.18.52.png
END:VEVENT
END:VCALENDAR