BEGIN:VCALENDAR
VERSION:2.0
PRODID:-//M de Música - ECPv5.14.1//NONSGML v1.0//EN
CALSCALE:GREGORIAN
METHOD:PUBLISH
X-WR-CALNAME:M de Música
X-ORIGINAL-URL:http://mdemusica.pt
X-WR-CALDESC:Events for M de Música
BEGIN:VTIMEZONE
TZID:Europe/Lisbon
BEGIN:DAYLIGHT
TZOFFSETFROM:+0000
TZOFFSETTO:+0100
TZNAME:WEST
DTSTART:20190331T010000
END:DAYLIGHT
BEGIN:STANDARD
TZOFFSETFROM:+0100
TZOFFSETTO:+0000
TZNAME:WET
DTSTART:20191027T010000
END:STANDARD
END:VTIMEZONE
BEGIN:VEVENT
DTSTART;VALUE=DATE:20191019
DTEND;VALUE=DATE:20191020
DTSTAMP:20260419T213202
CREATED:20190530T133407Z
LAST-MODIFIED:20190924T100954Z
UID:18443-1571443200-1571529599@mdemusica.pt
SUMMARY:Indiegente Live\, Lisboa Ao Vivo\, Lisboa
DESCRIPTION:Act-Ups\, AlgumaCena\, Anarchicks\, Bizarra Locomotiva\, Cabrita\, Nancy Knox\, Plástica\, Rui Maia\, The Dirty Coal Train\, The Parkinsons\, Knot3\, Dead Club\, Pista\, Manu de la Roche\, Vaiapraia \n 
URL:http://mdemusica.pt/agenda/indiegente-live-lisboa-ao-vivo-lisboa-2/
LOCATION:Lisboa ao Vivo\, Armazém Lisboa Av. Infante Dom Henrique\, 3 \,  Lisboa\, 1950-406\, Portugal
ATTACH;FMTTYPE=image/png:http://mdemusica.pt/wp-content/uploads/2019/05/Screen-Shot-2019-05-30-at-14.18.27.png
END:VEVENT
END:VCALENDAR