BEGIN:VCALENDAR
VERSION:2.0
PRODID:-//M de Música - ECPv5.14.1//NONSGML v1.0//EN
CALSCALE:GREGORIAN
METHOD:PUBLISH
X-WR-CALNAME:M de Música
X-ORIGINAL-URL:http://mdemusica.pt
X-WR-CALDESC:Events for M de Música
BEGIN:VTIMEZONE
TZID:Europe/Lisbon
BEGIN:DAYLIGHT
TZOFFSETFROM:+0000
TZOFFSETTO:+0100
TZNAME:WEST
DTSTART:20210328T010000
END:DAYLIGHT
BEGIN:STANDARD
TZOFFSETFROM:+0100
TZOFFSETTO:+0000
TZNAME:WET
DTSTART:20211031T010000
END:STANDARD
END:VTIMEZONE
BEGIN:VEVENT
DTSTART;VALUE=DATE:20210429
DTEND;VALUE=DATE:20210501
DTSTAMP:20260419T203259
CREATED:20201209T113609Z
LAST-MODIFIED:20210202T110308Z
UID:21619-1619654400-1619827199@mdemusica.pt
SUMMARY:GNR\, Montepio Às Vezes O Amor\, Teatro Municipal\, Vila do Conde
DESCRIPTION:
URL:http://mdemusica.pt/agenda/gnr-montepio-as-vezes-amor-teatro-municipal-vila-do-conde/
LOCATION:Auditório Municipal\, Vila do Conde\, Praça da República 45\, Vila do Conde\, 4480-671\, Portugal
ATTACH;FMTTYPE=image/jpeg:http://mdemusica.pt/wp-content/uploads/2020/12/unnamed-1.jpg
END:VEVENT
END:VCALENDAR