BEGIN:VCALENDAR
VERSION:2.0
PRODID:-//M de Música - ECPv5.14.1//NONSGML v1.0//EN
CALSCALE:GREGORIAN
METHOD:PUBLISH
X-WR-CALNAME:M de Música
X-ORIGINAL-URL:http://mdemusica.pt
X-WR-CALDESC:Events for M de Música
BEGIN:VTIMEZONE
TZID:Europe/Lisbon
BEGIN:DAYLIGHT
TZOFFSETFROM:+0000
TZOFFSETTO:+0100
TZNAME:WEST
DTSTART:20220327T010000
END:DAYLIGHT
BEGIN:STANDARD
TZOFFSETFROM:+0100
TZOFFSETTO:+0000
TZNAME:WET
DTSTART:20221030T010000
END:STANDARD
END:VTIMEZONE
BEGIN:VEVENT
DTSTART;VALUE=DATE:20220212
DTEND;VALUE=DATE:20220213
DTSTAMP:20260419T201734
CREATED:20211222T141736Z
LAST-MODIFIED:20211222T141736Z
UID:22771-1644624000-1644710399@mdemusica.pt
SUMMARY:GNR\, Montepio Às Vezes O Amor\, Cine-Teatro Paraíso\, Tomar
DESCRIPTION:
URL:http://mdemusica.pt/agenda/gnr-montepio-as-vezes-amor-cine-teatro-paraiso-tomar/
LOCATION:Cine-Teatro Paraíso\, R. Infantaria 15\, Tomar\, Portugal
ATTACH;FMTTYPE=image/jpeg:http://mdemusica.pt/wp-content/uploads/2021/12/index.jpg
END:VEVENT
END:VCALENDAR