BEGIN:VCALENDAR
VERSION:2.0
PRODID:-//M de Música - ECPv5.14.1//NONSGML v1.0//EN
CALSCALE:GREGORIAN
METHOD:PUBLISH
X-WR-CALNAME:M de Música
X-ORIGINAL-URL:http://mdemusica.pt
X-WR-CALDESC:Events for M de Música
BEGIN:VTIMEZONE
TZID:Europe/Lisbon
BEGIN:DAYLIGHT
TZOFFSETFROM:+0000
TZOFFSETTO:+0100
TZNAME:WEST
DTSTART:20210328T010000
END:DAYLIGHT
BEGIN:STANDARD
TZOFFSETFROM:+0100
TZOFFSETTO:+0000
TZNAME:WET
DTSTART:20211031T010000
END:STANDARD
END:VTIMEZONE
BEGIN:VEVENT
DTSTART;VALUE=DATE:20211113
DTEND;VALUE=DATE:20211114
DTSTAMP:20260419T200942
CREATED:20210824T131026Z
LAST-MODIFIED:20210824T131026Z
UID:22262-1636761600-1636847999@mdemusica.pt
SUMMARY:Gisela João\, Coliseu\, Porto
DESCRIPTION:
URL:http://mdemusica.pt/agenda/gisela-joao-coliseu-porto/
LOCATION:Coliseu Porto\, Rua Passos Manuel\, 137 \, Porto\, · 4000-385 
ATTACH;FMTTYPE=image/jpeg:http://mdemusica.pt/wp-content/uploads/2021/08/unnamed-3.jpg
END:VEVENT
END:VCALENDAR