BEGIN:VCALENDAR
VERSION:2.0
PRODID:-//M de Música - ECPv5.14.1//NONSGML v1.0//EN
CALSCALE:GREGORIAN
METHOD:PUBLISH
X-WR-CALNAME:M de Música
X-ORIGINAL-URL:http://mdemusica.pt
X-WR-CALDESC:Events for M de Música
BEGIN:VTIMEZONE
TZID:Europe/Lisbon
BEGIN:DAYLIGHT
TZOFFSETFROM:+0000
TZOFFSETTO:+0100
TZNAME:WEST
DTSTART:20210328T010000
END:DAYLIGHT
BEGIN:STANDARD
TZOFFSETFROM:+0100
TZOFFSETTO:+0000
TZNAME:WET
DTSTART:20211031T010000
END:STANDARD
END:VTIMEZONE
BEGIN:VEVENT
DTSTART;VALUE=DATE:20210721
DTEND;VALUE=DATE:20210722
DTSTAMP:20260420T010548
CREATED:20210615T081245Z
LAST-MODIFIED:20210615T081245Z
UID:22024-1626825600-1626911999@mdemusica.pt
SUMMARY:First Breath After Coma e Guta\, Impulso\, Centro Cultural e de Congressos\, Caldas da Rainha
DESCRIPTION:
URL:http://mdemusica.pt/agenda/first-breath-after-coma-guta-impulso-centro-cultural-congressos-caldas-da-rainha/
LOCATION:centro cultural e de congressos caldas da rainha\, R. Dr. Leonel Sotto Mayor 23D\, Caldas da Rainha\, Portugal
ATTACH;FMTTYPE=image/jpeg:http://mdemusica.pt/wp-content/uploads/2021/06/unnamed-3.jpg
END:VEVENT
END:VCALENDAR