BEGIN:VCALENDAR
VERSION:2.0
PRODID:-//M de Música - ECPv5.14.1//NONSGML v1.0//EN
CALSCALE:GREGORIAN
METHOD:PUBLISH
X-WR-CALNAME:M de Música
X-ORIGINAL-URL:http://mdemusica.pt
X-WR-CALDESC:Events for M de Música
BEGIN:VTIMEZONE
TZID:Europe/Lisbon
BEGIN:DAYLIGHT
TZOFFSETFROM:+0000
TZOFFSETTO:+0100
TZNAME:WEST
DTSTART:20170326T010000
END:DAYLIGHT
BEGIN:STANDARD
TZOFFSETFROM:+0100
TZOFFSETTO:+0000
TZNAME:WET
DTSTART:20171029T010000
END:STANDARD
END:VTIMEZONE
BEGIN:VEVENT
DTSTART;VALUE=DATE:20170916
DTEND;VALUE=DATE:20170917
DTSTAMP:20260419T155636
CREATED:20170823T135402Z
LAST-MODIFIED:20170823T135402Z
UID:12279-1505520000-1505606399@mdemusica.pt
SUMMARY:Festival Iminente\, Jardim Municipal\, Oeiras
DESCRIPTION:Cachupa Psicadélica\, NBC\, Chullage\, Karlon\, Holly Hood\, DJ Big\, Regula\, Shaka Lion\, Branko\, Enchufada na Zona\, Xinobi + Moullinex
URL:http://mdemusica.pt/agenda/festival-iminente-jardim-municipal-oeiras-2/
LOCATION:Jardim Municipal\, Oeiras\, Portugal
ATTACH;FMTTYPE=image/jpeg:http://mdemusica.pt/wp-content/uploads/2017/08/1NxonN_E.jpg
END:VEVENT
END:VCALENDAR