BEGIN:VCALENDAR
VERSION:2.0
PRODID:-//M de Música - ECPv5.14.1//NONSGML v1.0//EN
CALSCALE:GREGORIAN
METHOD:PUBLISH
X-WR-CALNAME:M de Música
X-ORIGINAL-URL:http://mdemusica.pt
X-WR-CALDESC:Events for M de Música
BEGIN:VTIMEZONE
TZID:Europe/Lisbon
BEGIN:DAYLIGHT
TZOFFSETFROM:+0000
TZOFFSETTO:+0100
TZNAME:WEST
DTSTART:20190331T010000
END:DAYLIGHT
BEGIN:STANDARD
TZOFFSETFROM:+0100
TZOFFSETTO:+0000
TZNAME:WET
DTSTART:20191027T010000
END:STANDARD
END:VTIMEZONE
BEGIN:VEVENT
DTSTART;VALUE=DATE:20191115
DTEND;VALUE=DATE:20191117
DTSTAMP:20260419T231618
CREATED:20190926T144317Z
LAST-MODIFIED:20191025T123920Z
UID:19157-1573776000-1573948799@mdemusica.pt
SUMMARY:Festival Para Gente Sentada\, Theatro Circo\, gnration\, Braga
DESCRIPTION:Dia 15: Kamal Williams\, Sensible Soccers \nDia 16: John Grant\, O Terno\, Bia Ferreira\, Homem em Catarse\, Little Friend \n 
URL:http://mdemusica.pt/agenda/festival-gente-sentada-theatro-circo-gnration-braga/
LOCATION:Theatro Circo\, Avenida da Liberdade\, 697 \, Braga\, 4710-251\, Portugal
ATTACH;FMTTYPE=image/png:http://mdemusica.pt/wp-content/uploads/2019/09/Screen-Shot-2019-09-26-at-14.54.42.png
END:VEVENT
END:VCALENDAR