BEGIN:VCALENDAR
VERSION:2.0
PRODID:-//M de Música - ECPv5.14.1//NONSGML v1.0//EN
CALSCALE:GREGORIAN
METHOD:PUBLISH
X-WR-CALNAME:M de Música
X-ORIGINAL-URL:http://mdemusica.pt
X-WR-CALDESC:Events for M de Música
BEGIN:VTIMEZONE
TZID:Europe/Lisbon
BEGIN:DAYLIGHT
TZOFFSETFROM:+0000
TZOFFSETTO:+0100
TZNAME:WEST
DTSTART:20170326T010000
END:DAYLIGHT
BEGIN:STANDARD
TZOFFSETFROM:+0100
TZOFFSETTO:+0000
TZNAME:WET
DTSTART:20171029T010000
END:STANDARD
END:VTIMEZONE
BEGIN:VEVENT
DTSTART;VALUE=DATE:20170901
DTEND;VALUE=DATE:20170902
DTSTAMP:20260419T214340
CREATED:20170726T235519Z
LAST-MODIFIED:20170726T235519Z
UID:12151-1504224000-1504310399@mdemusica.pt
SUMMARY:Festival F\, Faro
DESCRIPTION:Rui Veloso\, AGIR\, Carminho\, Valete\, Mão Morta\, Batida\, Alexander Search\, They’re Heading West\, Valas\, The Happy Mess\, Lula Pena\, S. Pedro\, Mimicat\, Galopim
URL:http://mdemusica.pt/agenda/festival-f-faro-2/
LOCATION:Festival F\, Vila Adentro\, Faro\, Portugal
ATTACH;FMTTYPE=image/png:http://mdemusica.pt/wp-content/uploads/2017/07/unnamed-1.png
END:VEVENT
END:VCALENDAR