BEGIN:VCALENDAR
VERSION:2.0
PRODID:-//M de Música - ECPv5.14.1//NONSGML v1.0//EN
CALSCALE:GREGORIAN
METHOD:PUBLISH
X-WR-CALNAME:M de Música
X-ORIGINAL-URL:http://mdemusica.pt
X-WR-CALDESC:Events for M de Música
BEGIN:VTIMEZONE
TZID:Europe/Lisbon
BEGIN:DAYLIGHT
TZOFFSETFROM:+0000
TZOFFSETTO:+0100
TZNAME:WEST
DTSTART:20180325T010000
END:DAYLIGHT
BEGIN:STANDARD
TZOFFSETFROM:+0100
TZOFFSETTO:+0000
TZNAME:WET
DTSTART:20181028T010000
END:STANDARD
END:VTIMEZONE
BEGIN:VEVENT
DTSTART;VALUE=DATE:20181027
DTEND;VALUE=DATE:20181028
DTSTAMP:20260421T113603
CREATED:20180913T132108Z
LAST-MODIFIED:20180920T141631Z
UID:15810-1540598400-1540684799@mdemusica.pt
SUMMARY:Enchufada na Zona: Dino D'Santiago\, DJ iZem\, Branko\, PEDRO\, Rastronaut\, Progressivu\, Hard Club\, Maus Hábitos\, Porto
DESCRIPTION:
URL:http://mdemusica.pt/agenda/enchufada-na-zona-dino-dsantiago-dj-izem-branko-pedro-rastronaut-progressivu-hard-club-maus-habitos-porto/
LOCATION:Hard Club\, Mercado Ferreira Borges\, Rua Infante D. Henrique\, 95 \, Porto\,  4050-252\, Portugal
ATTACH;FMTTYPE=image/png:http://mdemusica.pt/wp-content/uploads/2018/09/Screen-Shot-2018-09-13-at-14.19.25.png
END:VEVENT
END:VCALENDAR