BEGIN:VCALENDAR
VERSION:2.0
PRODID:-//M de Música - ECPv5.14.1//NONSGML v1.0//EN
CALSCALE:GREGORIAN
METHOD:PUBLISH
X-WR-CALNAME:M de Música
X-ORIGINAL-URL:http://mdemusica.pt
X-WR-CALDESC:Events for M de Música
BEGIN:VTIMEZONE
TZID:Europe/Lisbon
BEGIN:DAYLIGHT
TZOFFSETFROM:+0000
TZOFFSETTO:+0100
TZNAME:WEST
DTSTART:20210328T010000
END:DAYLIGHT
BEGIN:STANDARD
TZOFFSETFROM:+0100
TZOFFSETTO:+0000
TZNAME:WET
DTSTART:20211031T010000
END:STANDARD
END:VTIMEZONE
BEGIN:VEVENT
DTSTART;VALUE=DATE:20210518
DTEND;VALUE=DATE:20210519
DTSTAMP:20260419T231624
CREATED:20200418T113937Z
LAST-MODIFIED:20200418T113937Z
UID:20644-1621296000-1621382399@mdemusica.pt
SUMMARY:Einsturzende Neubauten\, Aula Magna\, Lisboa
DESCRIPTION:
URL:http://mdemusica.pt/agenda/einsturzende-neubauten-aula-magna-lisboa/
LOCATION:Aula Magna\, Aula Magna\, Avenida Professor Gama Pinto 3\,  Lisboa
ATTACH;FMTTYPE=image/jpeg:http://mdemusica.pt/wp-content/uploads/2020/04/mw-860.jpg
END:VEVENT
END:VCALENDAR