BEGIN:VCALENDAR
VERSION:2.0
PRODID:-//M de Música - ECPv5.14.1//NONSGML v1.0//EN
CALSCALE:GREGORIAN
METHOD:PUBLISH
X-WR-CALNAME:M de Música
X-ORIGINAL-URL:http://mdemusica.pt
X-WR-CALDESC:Events for M de Música
BEGIN:VTIMEZONE
TZID:Europe/Lisbon
BEGIN:DAYLIGHT
TZOFFSETFROM:+0000
TZOFFSETTO:+0100
TZNAME:WEST
DTSTART:20160327T010000
END:DAYLIGHT
BEGIN:STANDARD
TZOFFSETFROM:+0100
TZOFFSETTO:+0000
TZNAME:WET
DTSTART:20161030T010000
END:STANDARD
END:VTIMEZONE
BEGIN:VEVENT
DTSTART;VALUE=DATE:20161112
DTEND;VALUE=DATE:20161113
DTSTAMP:20260421T115809
CREATED:20161017T122345Z
LAST-MODIFIED:20161018T111713Z
UID:8788-1478908800-1478995199@mdemusica.pt
SUMMARY:Dom La Nena | Misty Fest
DESCRIPTION:Teatro Micaelense\, São Miguel
URL:http://mdemusica.pt/agenda/dom-la-nena-misty-fest-teatro-micaelense-sao-miguel/
LOCATION:Teatro Micaelense\, Largo de S. João\,  Ponta Delgada\,  S. Miguel Açores \, Portugal
END:VEVENT
END:VCALENDAR