BEGIN:VCALENDAR
VERSION:2.0
PRODID:-//M de Música - ECPv5.14.1//NONSGML v1.0//EN
CALSCALE:GREGORIAN
METHOD:PUBLISH
X-WR-CALNAME:M de Música
X-ORIGINAL-URL:http://mdemusica.pt
X-WR-CALDESC:Events for M de Música
BEGIN:VTIMEZONE
TZID:Europe/Lisbon
BEGIN:DAYLIGHT
TZOFFSETFROM:+0000
TZOFFSETTO:+0100
TZNAME:WEST
DTSTART:20180325T010000
END:DAYLIGHT
BEGIN:STANDARD
TZOFFSETFROM:+0100
TZOFFSETTO:+0000
TZNAME:WET
DTSTART:20181028T010000
END:STANDARD
END:VTIMEZONE
BEGIN:VEVENT
DTSTART;VALUE=DATE:20180223
DTEND;VALUE=DATE:20180224
DTSTAMP:20260423T102459
CREATED:20180221T132528Z
LAST-MODIFIED:20180221T132528Z
UID:14100-1519344000-1519430399@mdemusica.pt
SUMMARY:Cícero\, Teatro das Figuras\, Faro
DESCRIPTION:
URL:http://mdemusica.pt/agenda/cicero-teatro-das-figuras-faro/
LOCATION:Teatro das Figuras\, Horta das Figuras\, EN 125\,  Faro\,  8005-518\, Portugal
ATTACH;FMTTYPE=image/jpeg:http://mdemusica.pt/wp-content/uploads/2018/02/24893647580004753650000.jpg
ORGANIZER;CN="Arruada":MAILTO:info@arruada.pt
END:VEVENT
END:VCALENDAR