BEGIN:VCALENDAR
VERSION:2.0
PRODID:-//M de Música - ECPv5.14.1//NONSGML v1.0//EN
CALSCALE:GREGORIAN
METHOD:PUBLISH
X-WR-CALNAME:M de Música
X-ORIGINAL-URL:http://mdemusica.pt
X-WR-CALDESC:Events for M de Música
BEGIN:VTIMEZONE
TZID:Europe/Lisbon
BEGIN:DAYLIGHT
TZOFFSETFROM:+0000
TZOFFSETTO:+0100
TZNAME:WEST
DTSTART:20170326T010000
END:DAYLIGHT
BEGIN:STANDARD
TZOFFSETFROM:+0100
TZOFFSETTO:+0000
TZNAME:WET
DTSTART:20171029T010000
END:STANDARD
END:VTIMEZONE
BEGIN:VEVENT
DTSTART;VALUE=DATE:20170812
DTEND;VALUE=DATE:20170813
DTSTAMP:20260419T212350
CREATED:20170604T143518Z
LAST-MODIFIED:20170604T143518Z
UID:11567-1502496000-1502582399@mdemusica.pt
SUMMARY:Carviçais Rock: GrandFather's House\, Blasted Mechanism\, The Legendary Tigerman
DESCRIPTION:
URL:http://mdemusica.pt/agenda/carvicais-rock-grandfathers-house-blasted-mechanism-the-legendary-tigerman/
LOCATION:Torre de Moncorvo
ATTACH;FMTTYPE=image/jpeg:http://mdemusica.pt/wp-content/uploads/2017/06/l_carvicaisrock2017.jpeg
END:VEVENT
END:VCALENDAR