BEGIN:VCALENDAR
VERSION:2.0
PRODID:-//M de Música - ECPv5.14.1//NONSGML v1.0//EN
CALSCALE:GREGORIAN
METHOD:PUBLISH
X-WR-CALNAME:M de Música
X-ORIGINAL-URL:http://mdemusica.pt
X-WR-CALDESC:Events for M de Música
BEGIN:VTIMEZONE
TZID:Europe/Lisbon
BEGIN:DAYLIGHT
TZOFFSETFROM:+0000
TZOFFSETTO:+0100
TZNAME:WEST
DTSTART:20200329T010000
END:DAYLIGHT
BEGIN:STANDARD
TZOFFSETFROM:+0100
TZOFFSETTO:+0000
TZNAME:WET
DTSTART:20201025T010000
END:STANDARD
END:VTIMEZONE
BEGIN:VEVENT
DTSTART;VALUE=DATE:20200306
DTEND;VALUE=DATE:20200307
DTSTAMP:20260419T205201
CREATED:20191125T173339Z
LAST-MODIFIED:20191125T173339Z
UID:19649-1583452800-1583539199@mdemusica.pt
SUMMARY:Carminho\, Fórum Cultural\, Alcochete
DESCRIPTION:
URL:http://mdemusica.pt/agenda/carminho-forum-cultural-alcochete/
LOCATION:Forum Cultural Alcochete\, Estrada Municipal 501 Praia dos Moinhos\, Alcochete\, Portugal
END:VEVENT
END:VCALENDAR