BEGIN:VCALENDAR
VERSION:2.0
PRODID:-//M de Música - ECPv5.14.1//NONSGML v1.0//EN
CALSCALE:GREGORIAN
METHOD:PUBLISH
X-WR-CALNAME:M de Música
X-ORIGINAL-URL:http://mdemusica.pt
X-WR-CALDESC:Events for M de Música
BEGIN:VTIMEZONE
TZID:Europe/Lisbon
BEGIN:DAYLIGHT
TZOFFSETFROM:+0000
TZOFFSETTO:+0100
TZNAME:WEST
DTSTART:20220327T010000
END:DAYLIGHT
BEGIN:STANDARD
TZOFFSETFROM:+0100
TZOFFSETTO:+0000
TZNAME:WET
DTSTART:20221030T010000
END:STANDARD
END:VTIMEZONE
BEGIN:VEVENT
DTSTART;VALUE=DATE:20220214
DTEND;VALUE=DATE:20220215
DTSTAMP:20260419T202515
CREATED:20220106T140431Z
LAST-MODIFIED:20220106T140431Z
UID:22827-1644796800-1644883199@mdemusica.pt
SUMMARY:Carlão\, Montepio Às Vezes o Amor\, Convento São Francisco\, Coimbra
DESCRIPTION:
URL:http://mdemusica.pt/agenda/carlao-montepio-as-vezes-amor-convento-sao-francisco-coimbra/
LOCATION:Convento de São Francisco\, Av. da Guarda Inglesa\, 1A \,  Coimbra\, 3040-293\, Portugal
ATTACH;FMTTYPE=image/jpeg:http://mdemusica.pt/wp-content/uploads/2021/12/index.jpg
END:VEVENT
END:VCALENDAR