BEGIN:VCALENDAR
VERSION:2.0
PRODID:-//M de Música - ECPv5.14.1//NONSGML v1.0//EN
CALSCALE:GREGORIAN
METHOD:PUBLISH
X-WR-CALNAME:M de Música
X-ORIGINAL-URL:http://mdemusica.pt
X-WR-CALDESC:Events for M de Música
BEGIN:VTIMEZONE
TZID:Europe/Lisbon
BEGIN:DAYLIGHT
TZOFFSETFROM:+0000
TZOFFSETTO:+0100
TZNAME:WEST
DTSTART:20190331T010000
END:DAYLIGHT
BEGIN:STANDARD
TZOFFSETFROM:+0100
TZOFFSETTO:+0000
TZNAME:WET
DTSTART:20191027T010000
END:STANDARD
END:VTIMEZONE
BEGIN:VEVENT
DTSTART;VALUE=DATE:20190922
DTEND;VALUE=DATE:20190923
DTSTAMP:20260421T130155
CREATED:20190611T163725Z
LAST-MODIFIED:20190611T163725Z
UID:18522-1569110400-1569196799@mdemusica.pt
SUMMARY:Brunch Electronik - In The Park\, Tapada da Ajuda\, Lisboa
DESCRIPTION:Amelie Lens\, Farrago\, Airod\, Lee Jo Life
URL:http://mdemusica.pt/agenda/brunch-electronik-in-the-park-tapada-da-ajuda-lisboa-14/
LOCATION:Tapada da Ajuda\, Lisboa
END:VEVENT
END:VCALENDAR