BEGIN:VCALENDAR
VERSION:2.0
PRODID:-//M de Música - ECPv5.14.1//NONSGML v1.0//EN
CALSCALE:GREGORIAN
METHOD:PUBLISH
X-WR-CALNAME:M de Música
X-ORIGINAL-URL:http://mdemusica.pt
X-WR-CALDESC:Events for M de Música
BEGIN:VTIMEZONE
TZID:Europe/Lisbon
BEGIN:DAYLIGHT
TZOFFSETFROM:+0000
TZOFFSETTO:+0100
TZNAME:WEST
DTSTART:20160327T010000
END:DAYLIGHT
BEGIN:STANDARD
TZOFFSETFROM:+0100
TZOFFSETTO:+0000
TZNAME:WET
DTSTART:20161030T010000
END:STANDARD
END:VTIMEZONE
BEGIN:VEVENT
DTSTART;VALUE=DATE:20161029
DTEND;VALUE=DATE:20161030
DTSTAMP:20260419T182839
CREATED:20161024T121946Z
LAST-MODIFIED:20161024T121946Z
UID:8929-1477699200-1477785599@mdemusica.pt
SUMMARY:Birds Are Indie\, Aqui Base Tango\, Coimbra
DESCRIPTION:Aqui Base Tango\, Coimbra
URL:http://mdemusica.pt/agenda/birds-are-indie-base-tango-coimbra/
LOCATION:Aqui Base Tango\, Rua Venâncio Rodrigues nr 8\,\,  Coimbra\, 3000-409\, Portugal
END:VEVENT
END:VCALENDAR