BEGIN:VCALENDAR
VERSION:2.0
PRODID:-//M de Música - ECPv5.14.1//NONSGML v1.0//EN
CALSCALE:GREGORIAN
METHOD:PUBLISH
X-WR-CALNAME:M de Música
X-ORIGINAL-URL:http://mdemusica.pt
X-WR-CALDESC:Events for M de Música
BEGIN:VTIMEZONE
TZID:Europe/Lisbon
BEGIN:DAYLIGHT
TZOFFSETFROM:+0000
TZOFFSETTO:+0100
TZNAME:WEST
DTSTART:20170326T010000
END:DAYLIGHT
BEGIN:STANDARD
TZOFFSETFROM:+0100
TZOFFSETTO:+0000
TZNAME:WET
DTSTART:20171029T010000
END:STANDARD
END:VTIMEZONE
BEGIN:VEVENT
DTSTART;VALUE=DATE:20171030
DTEND;VALUE=DATE:20171031
DTSTAMP:20260421T111833
CREATED:20170426T105331Z
LAST-MODIFIED:20170426T105331Z
UID:10896-1509321600-1509407999@mdemusica.pt
SUMMARY:And So I Watch You From Afar\, Musicbox\, Lisboa
DESCRIPTION:
URL:http://mdemusica.pt/agenda/and-so-i-watch-you-from-afar-musicbox-lisboa/
LOCATION:MUSICBOX LISBOA\,  Rua Nova do Carvalho 25  \, Lisboa\, 1200-291\, Portugal
ATTACH;FMTTYPE=image/jpeg:http://mdemusica.pt/wp-content/uploads/2017/04/unnamed-3.jpg
END:VEVENT
END:VCALENDAR