BEGIN:VCALENDAR
VERSION:2.0
PRODID:-//M de Música - ECPv5.14.1//NONSGML v1.0//EN
CALSCALE:GREGORIAN
METHOD:PUBLISH
X-WR-CALNAME:M de Música
X-ORIGINAL-URL:http://mdemusica.pt
X-WR-CALDESC:Events for M de Música
BEGIN:VTIMEZONE
TZID:Europe/Lisbon
BEGIN:DAYLIGHT
TZOFFSETFROM:+0000
TZOFFSETTO:+0100
TZNAME:WEST
DTSTART:20190331T010000
END:DAYLIGHT
BEGIN:STANDARD
TZOFFSETFROM:+0100
TZOFFSETTO:+0000
TZNAME:WET
DTSTART:20191027T010000
END:STANDARD
END:VTIMEZONE
BEGIN:VEVENT
DTSTART;VALUE=DATE:20191116
DTEND;VALUE=DATE:20191117
DTSTAMP:20260420T040433
CREATED:20190527T093537Z
LAST-MODIFIED:20190527T093537Z
UID:18413-1573862400-1573948799@mdemusica.pt
SUMMARY:Adriana Calcanhotto\, Tivoli BBVA\, Lisboa
DESCRIPTION:
URL:http://mdemusica.pt/agenda/adriana-calcanhotto-tivoli-bbva-lisboa/
LOCATION:Teatro Tivoli BBVA\, Av. da Liberdade\, 182/188\, Lisboa\, 1250-146 \, Portugal
ATTACH;FMTTYPE=image/jpeg:http://mdemusica.pt/wp-content/uploads/2019/05/unnamed2-2.jpg
END:VEVENT
END:VCALENDAR