BEGIN:VCALENDAR
VERSION:2.0
PRODID:-//M de Música - ECPv5.14.1//NONSGML v1.0//EN
CALSCALE:GREGORIAN
METHOD:PUBLISH
X-WR-CALNAME:M de Música
X-ORIGINAL-URL:http://mdemusica.pt
X-WR-CALDESC:Events for M de Música
BEGIN:VTIMEZONE
TZID:Europe/Lisbon
BEGIN:DAYLIGHT
TZOFFSETFROM:+0000
TZOFFSETTO:+0100
TZNAME:WEST
DTSTART:20180325T010000
END:DAYLIGHT
BEGIN:STANDARD
TZOFFSETFROM:+0100
TZOFFSETTO:+0000
TZNAME:WET
DTSTART:20181028T010000
END:STANDARD
END:VTIMEZONE
BEGIN:VEVENT
DTSTART;VALUE=DATE:20180406
DTEND;VALUE=DATE:20180407
DTSTAMP:20260420T093935
CREATED:20180126T183228Z
LAST-MODIFIED:20180126T183228Z
UID:13859-1522972800-1523059199@mdemusica.pt
SUMMARY:Os Tubarões\, Teatro Tivoli BBVA\, Lisboa
DESCRIPTION:
URL:http://mdemusica.pt/agenda/os-tubaroes-teatro-tivoli-bbva-lisboa/
LOCATION:Teatro Tivoli BBVA\, Av. da Liberdade\, 182/188\, Lisboa\, 1250-146 \, Portugal
ATTACH;FMTTYPE=image/jpeg:http://mdemusica.pt/wp-content/uploads/2018/01/thumbs.web_.sapo_.io_.jpg
END:VEVENT
BEGIN:VEVENT
DTSTART;VALUE=DATE:20180406
DTEND;VALUE=DATE:20180407
DTSTAMP:20260420T093935
CREATED:20180306T133313Z
LAST-MODIFIED:20180306T133313Z
UID:14250-1522972800-1523059199@mdemusica.pt
SUMMARY:Boogarins\, gnration\, Braga
DESCRIPTION:
URL:http://mdemusica.pt/agenda/boogarins-gnration-braga/
LOCATION:GNRation\, Praça Conde de Agrolongo \,  Braga\, 4700-312\, Portugal
ATTACH;FMTTYPE=image/png:http://mdemusica.pt/wp-content/uploads/2017/12/boogarins.png
END:VEVENT
BEGIN:VEVENT
DTSTART;VALUE=DATE:20180406
DTEND;VALUE=DATE:20180407
DTSTAMP:20260420T093935
CREATED:20180308T151622Z
LAST-MODIFIED:20180308T151622Z
UID:14279-1522972800-1523059199@mdemusica.pt
SUMMARY:MIL - Lisbon International Music Network\, Lisboa
DESCRIPTION:Aeromoças e Tenistas Russas\, Banda B.Leza\, Bruno Pernadas\, Cary or not Cary\, Dark Times\, Elbi\, Fugly\, Futuro Pelo\, Galo Cant’Às Duas\, Gonçalo\, HHY & The Macumbas\, Jay Moreira\, Joana Guerra\, Keep Razors Sharp\, Killimanjaro\, KO KO MO\, LaBaq\, Luís Severo\, L. Teez & Aeon Seven\, Mighty Sands\, MONDAY\, Naïve New Beaters\, Névoa\, Ops\, Passo Largo\, Process of Guilt\, Sean Riley\, Toft\, Whales\, When ‘Airy Met Fairy
URL:http://mdemusica.pt/agenda/mil-lisbon-international-music-network-lisboa-3/
LOCATION:MIL\, Lisboa
ATTACH;FMTTYPE=image/jpeg:http://mdemusica.pt/wp-content/uploads/2018/02/unnamed3.jpg
END:VEVENT
END:VCALENDAR