BEGIN:VCALENDAR
VERSION:2.0
PRODID:-//M de Música - ECPv5.14.1//NONSGML v1.0//EN
CALSCALE:GREGORIAN
METHOD:PUBLISH
X-WR-CALNAME:M de Música
X-ORIGINAL-URL:http://mdemusica.pt
X-WR-CALDESC:Events for M de Música
BEGIN:VTIMEZONE
TZID:Europe/Lisbon
BEGIN:DAYLIGHT
TZOFFSETFROM:+0000
TZOFFSETTO:+0100
TZNAME:WEST
DTSTART:20170326T010000
END:DAYLIGHT
BEGIN:STANDARD
TZOFFSETFROM:+0100
TZOFFSETTO:+0000
TZNAME:WET
DTSTART:20171029T010000
END:STANDARD
END:VTIMEZONE
BEGIN:VEVENT
DTSTART;VALUE=DATE:20170915
DTEND;VALUE=DATE:20170918
DTSTAMP:20260420T183122
CREATED:20170520T120356Z
LAST-MODIFIED:20170520T120356Z
UID:11358-1505433600-1505692799@mdemusica.pt
SUMMARY:Festival Ciclo Mundos\, Estádio 1º de Maio\, Lisboa
DESCRIPTION:
URL:http://mdemusica.pt/agenda/festival-ciclo-mundos-estadio-1o-maio-lisboa/
LOCATION:Estádio 1º de Maio\, Av. Rio de Janeiro\, Lisboa\, 1700-330 Lisboa\, Portugal
END:VEVENT
BEGIN:VEVENT
DTSTART;VALUE=DATE:20170915
DTEND;VALUE=DATE:20170916
DTSTAMP:20260420T183122
CREATED:20170617T172458Z
LAST-MODIFIED:20170729T074100Z
UID:11711-1505433600-1505519999@mdemusica.pt
SUMMARY:Caixa Alfama\, Lisboa
DESCRIPTION:António Zambujo\, Marina Mota\, José Gonçalez & Sangre Ibérico\, Teresinha Landeiro\, Matilde Cid\, Luís Guerreiro\, Pedro Caixa\, Diogo Clemente\, Miguel Ramos\, Conceição Ribeiro\, Augusto Ramos\, Filipa Cardoso\, Carolina\, Ana Marta\, Jaime Dias\, Pedro Galveias\, Vera Monteiro\, António Pinto Basto\, Teresa Tapadas\, Alexandra\, Rodrigo Costa Félix\, Bárbara Santos \n 
URL:http://mdemusica.pt/agenda/caixa-alfama-alfama-lisboa/
LOCATION:Museu do Fado\, Largo Chafariz de Dentro 1\, Lisboa\, 1100-139 Lisboa\, Portugal
ATTACH;FMTTYPE=image/png:http://mdemusica.pt/wp-content/uploads/2017/06/19059621_811352622362015_8935342092805646358_n.png
END:VEVENT
BEGIN:VEVENT
DTSTART;VALUE=DATE:20170915
DTEND;VALUE=DATE:20170916
DTSTAMP:20260420T183122
CREATED:20170723T121050Z
LAST-MODIFIED:20170723T121050Z
UID:12088-1505433600-1505519999@mdemusica.pt
SUMMARY:Viana Bate Forte\, Viana do Castelo
DESCRIPTION:Pedro Abrunhosa\, Salvador Sobral\, Rita Redshoes\, Jimmy P\, Ninja Kore\, Da Chick\, PAUS\, Valas\, Moonshiners\, Aerosoul
URL:http://mdemusica.pt/agenda/viana-bate-forte-viana-do-castelo/
LOCATION:Viana Bate Forte\, Praça da Liberdade\, Viana do Castelo\, Portugal
ATTACH;FMTTYPE=image/jpeg:http://mdemusica.pt/wp-content/uploads/2017/07/unnamed1-1.jpg
END:VEVENT
BEGIN:VEVENT
DTSTART;VALUE=DATE:20170915
DTEND;VALUE=DATE:20170916
DTSTAMP:20260420T183122
CREATED:20170823T135132Z
LAST-MODIFIED:20170823T135132Z
UID:12274-1505433600-1505519999@mdemusica.pt
SUMMARY:Festival Iminente\, Jardim Municipal\, Oeiras
DESCRIPTION:Truz\, You Can’t Win Charlie Brown\, Kroniko\, Slow J\, Scuru Fitchadu\, Halloween\, Throes + The Shine\, Mike El Nite\, Capitão Fausto\, Yen Sung\, Orelha Negra\, DJ Marfox + DJ Nervoso
URL:http://mdemusica.pt/agenda/festival-iminente-jardim-municipal-oeiras/
LOCATION:Jardim Municipal\, Oeiras\, Portugal
ATTACH;FMTTYPE=image/jpeg:http://mdemusica.pt/wp-content/uploads/2017/08/1NxonN_E.jpg
END:VEVENT
BEGIN:VEVENT
DTSTART;VALUE=DATE:20170915
DTEND;VALUE=DATE:20170916
DTSTAMP:20260420T183122
CREATED:20170831T102827Z
LAST-MODIFIED:20170831T102827Z
UID:12325-1505433600-1505519999@mdemusica.pt
SUMMARY:Noites Ritual\, Jardins do Palácio de Cristal\, Porto
DESCRIPTION:Reporter Estrábico\, Legendary Tigerman
URL:http://mdemusica.pt/agenda/noites-ritual-jardins-do-palacio-cristal-porto/
LOCATION:Jardins do Palácio de Cristal\,  R. de Entre-Quintas 20\, Porto\, 4050-240 Porto\, Portugal
END:VEVENT
BEGIN:VEVENT
DTSTART;VALUE=DATE:20170915
DTEND;VALUE=DATE:20170917
DTSTAMP:20260420T183122
CREATED:20170905T145842Z
LAST-MODIFIED:20170908T153651Z
UID:12384-1505433600-1505606399@mdemusica.pt
SUMMARY:Belém Art Fest\, Lisboa
DESCRIPTION:Rui Veloso\, Dead Combo\, Surma\, DJ Ride\, Tiago Bettencourt\, Cais Sodré Funk Connection\, Meadows\, Sean Riley & The Slowriders\, Octa Push\, Joana Alegre\, Marta Hugon\, King John\, Trêsporcento
URL:http://mdemusica.pt/agenda/belem-art-fest-lisboa/
LOCATION:Mosteiro dos Jerónimos\, Praça do Império \, Lisboa\, 1400-206 \, Portugal
ATTACH;FMTTYPE=image/png:http://mdemusica.pt/wp-content/uploads/2017/09/Belem-Art-Fest-web-assets_BAF-logo.png
END:VEVENT
END:VCALENDAR