BEGIN:VCALENDAR
VERSION:2.0
PRODID:-//M de Música - ECPv5.14.1//NONSGML v1.0//EN
CALSCALE:GREGORIAN
METHOD:PUBLISH
X-WR-CALNAME:M de Música
X-ORIGINAL-URL:http://mdemusica.pt
X-WR-CALDESC:Events for M de Música
BEGIN:VTIMEZONE
TZID:Europe/Lisbon
BEGIN:DAYLIGHT
TZOFFSETFROM:+0000
TZOFFSETTO:+0100
TZNAME:WEST
DTSTART:20170326T010000
END:DAYLIGHT
BEGIN:STANDARD
TZOFFSETFROM:+0100
TZOFFSETTO:+0000
TZNAME:WET
DTSTART:20171029T010000
END:STANDARD
END:VTIMEZONE
BEGIN:VEVENT
DTSTART;VALUE=DATE:20170908
DTEND;VALUE=DATE:20170909
DTSTAMP:20260420T082009
CREATED:20170723T115912Z
LAST-MODIFIED:20170723T115912Z
UID:12082-1504828800-1504915199@mdemusica.pt
SUMMARY:Xinobi\, Centro Cultural de Belém\, Lisboa
DESCRIPTION:
URL:http://mdemusica.pt/agenda/xin/
LOCATION:Centro Cultural de Belém\, Praça do Império\, \, Lisboa\, 1449-003 \, Portugal
ATTACH;FMTTYPE=image/jpeg:http://mdemusica.pt/wp-content/uploads/2017/07/unnamed-3.jpg
END:VEVENT
BEGIN:VEVENT
DTSTART;VALUE=DATE:20170908
DTEND;VALUE=DATE:20170909
DTSTAMP:20260420T082009
CREATED:20170831T104607Z
LAST-MODIFIED:20170831T104607Z
UID:12330-1504828800-1504915199@mdemusica.pt
SUMMARY:Reverence Festival\, Parque da Ribeira\, Santarém
DESCRIPTION:Moonspell\, Amenra\, Oathbreaker\, Sinistro\, 10000 Russos\, Bo Ningen\, Desert Mountain Tribe\, Névoa\, Wildnorthe\, The Gluts\, Dead Rabbits\, Pretty Lightning\, Zarco\, Gossamers\, Tren Go! Soundsystem\, The Melancholic Youth of Jesus\, Cut\, Two Pirates and a Dead Ship\, Quentin Gas & Los Zíngaros\, Iguana\, F’rrugem
URL:http://mdemusica.pt/agenda/reverence-festival-parque-da-ribeira-santarem/
LOCATION:Parque da Ribeira\, Santarém
ATTACH;FMTTYPE=image/png:http://mdemusica.pt/wp-content/uploads/2017/08/unnamed-2.png
END:VEVENT
END:VCALENDAR