BEGIN:VCALENDAR
VERSION:2.0
PRODID:-//M de Música - ECPv5.14.1//NONSGML v1.0//EN
CALSCALE:GREGORIAN
METHOD:PUBLISH
X-WR-CALNAME:M de Música
X-ORIGINAL-URL:http://mdemusica.pt
X-WR-CALDESC:Events for M de Música
BEGIN:VTIMEZONE
TZID:Europe/Lisbon
BEGIN:DAYLIGHT
TZOFFSETFROM:+0000
TZOFFSETTO:+0100
TZNAME:WEST
DTSTART:20170326T010000
END:DAYLIGHT
BEGIN:STANDARD
TZOFFSETFROM:+0100
TZOFFSETTO:+0000
TZNAME:WET
DTSTART:20171029T010000
END:STANDARD
END:VTIMEZONE
BEGIN:VEVENT
DTSTART;VALUE=DATE:20170821
DTEND;VALUE=DATE:20170827
DTSTAMP:20260420T001822
CREATED:20170227T122424Z
LAST-MODIFIED:20170623T134614Z
UID:10221-1503273600-1503791999@mdemusica.pt
SUMMARY:Festival do Crato: Eagles of Death Metal\, Samuel Úria\, Mishlawi\, Ky-Mani Marley\, Mundo Segundo & Sam The Kid\, Matias Damásio\, Seu Jorge\, David Fonseca\, Bezegol\, John Newman\, Emir Kusturica & The No Smoking Orchestra\, Diogo Piçarra\, Piruka\, Pedro Moutinho\, Três Por Cento
DESCRIPTION:
URL:http://mdemusica.pt/agenda/festival-do-crato/
LOCATION:Crato\, Município do Crato\, Portalegre\, Portugal
ATTACH;FMTTYPE=image/png:http://mdemusica.pt/wp-content/uploads/2017/02/crato_2017.png
END:VEVENT
BEGIN:VEVENT
DTSTART;VALUE=DATE:20170824
DTEND;VALUE=DATE:20170827
DTSTAMP:20260420T001822
CREATED:20170520T151235Z
LAST-MODIFIED:20170520T151235Z
UID:11418-1503532800-1503791999@mdemusica.pt
SUMMARY:EDP Vilar de Mouros\, Primal Scream\, 2ManyDjs\, The Jesus and Mary Chain\, The Mission\, The Dandy Warhols\, The Psychedelic Furs\, Morcheeba\, The Young Gods\, The Boomtown Rats\, The Veils\, Avec\, Capitão Fausto\, Salvador Sobral
DESCRIPTION:
URL:http://mdemusica.pt/agenda/edp-vilar-mouros-primal-scream-2manydjs-the-jesus-and-mary-chain-the-mission-the-dandy-warhols-the-psychedelic-furs-morcheeba-the-young-gods-the-boomtown-rats-the-veils-avec-capitao-fau/
LOCATION:Festival Vilar de Mouros\, Estrada da Ponte\, 4910 \, Portugal
ATTACH;FMTTYPE=image/jpeg:http://mdemusica.pt/wp-content/uploads/2017/05/edp-vilar-de-mouros-cartaz-2017.jpeg
END:VEVENT
BEGIN:VEVENT
DTSTART;VALUE=DATE:20170826
DTEND;VALUE=DATE:20170827
DTSTAMP:20260420T001822
CREATED:20170604T144226Z
LAST-MODIFIED:20170604T144226Z
UID:11570-1503705600-1503791999@mdemusica.pt
SUMMARY:Festival OITO24: Sean Riley & The Slowriders
DESCRIPTION:
URL:http://mdemusica.pt/agenda/festival-oito24-sean-riley-the-slowriders/
LOCATION:Espinho\, Espinho\, Portugal
ATTACH;FMTTYPE=image/jpeg:http://mdemusica.pt/wp-content/uploads/2017/06/13230078_843532602456940_7565605814407659808_n.jpeg
END:VEVENT
END:VCALENDAR