BEGIN:VCALENDAR
VERSION:2.0
PRODID:-//M de Música - ECPv5.14.1//NONSGML v1.0//EN
CALSCALE:GREGORIAN
METHOD:PUBLISH
X-WR-CALNAME:M de Música
X-ORIGINAL-URL:http://mdemusica.pt
X-WR-CALDESC:Events for M de Música
BEGIN:VTIMEZONE
TZID:Europe/Lisbon
BEGIN:DAYLIGHT
TZOFFSETFROM:+0000
TZOFFSETTO:+0100
TZNAME:WEST
DTSTART:20170326T010000
END:DAYLIGHT
BEGIN:STANDARD
TZOFFSETFROM:+0100
TZOFFSETTO:+0000
TZNAME:WET
DTSTART:20171029T010000
END:STANDARD
END:VTIMEZONE
BEGIN:VEVENT
DTSTART;VALUE=DATE:20170810
DTEND;VALUE=DATE:20170814
DTSTAMP:20260420T001822
CREATED:20170506T125052Z
LAST-MODIFIED:20170609T160739Z
UID:11095-1502323200-1502668799@mdemusica.pt
SUMMARY:O Sol da Caparica: António Zambujo\, Best Youth\, Bispo\, Carlão\, Bonga\, Carlos do Carmo\, Teresa Salgueiro\, Virgul\, Criolo\, Dealema\, Djodje\, HMB\, Mafalda Veiga\, Manel Cruz\, Mariza\, Matias Damásio\, Regula\, Sam Alone\, Xutos & Pontapés\, Samuel Úria\, Trovante\, Os Tubarões\, Sean Riley & The Slowriders\, Mishlawi\, Os Quatro e Meia\, DJs Rich & Mendes\, Os Tais Quais\, Trevo\, À Sombra do Cristo Rei\, Sam Alone\, DJ Nuno Calado\, Fogo-Fogo\, Capicua\, Rita Guerra
DESCRIPTION:
URL:http://mdemusica.pt/agenda/sol-da-caparica-antonio-zambujo-best-youth-bispo-carlao-bonga-carlos-do-carmo-criolo-dealema-djodje-hmb-mafalda-veiga-manel-cruz-mariza-matias-damasio-regula-sam-alone-xutos-ponta/
LOCATION:O Sol da Caparica\, 	      Parque Urbano Da Costa da Caparica   \, Almada\,   2825 Costa De Caparica\, Portugal
ATTACH;FMTTYPE=image/jpeg:http://mdemusica.pt/wp-content/uploads/2017/05/unnamed-2.jpg
END:VEVENT
BEGIN:VEVENT
DTSTART;VALUE=DATE:20170811
DTEND;VALUE=DATE:20170815
DTSTAMP:20260420T001822
CREATED:20170313T115024Z
LAST-MODIFIED:20170525T105544Z
UID:10383-1502409600-1502755199@mdemusica.pt
SUMMARY:Festival Bons Sons
DESCRIPTION:Dia 11\nHoly Nothing\, Virgem Suta\, Glockenwise\, Capitão Fausto\, Whales\, Surma\, Phunder & Co + Groove\, Salvation\, Manuel Fúria\, Band’olim\, Singularlugar\, Ana Jezabel e António Torres\, SonicBlast\, Moledo: The Machine\, Death Alley\, Blaak Heat\, Löbo\, Toxic Shock\, Vinnum Sabbathi\, Holy Mushroom\, Orange Goblin\, Kadavar\, Sasquatch\, Gagarin\, The Well!\, Elder\, Kikagaku Moyo e Monolord.\n\nDia 12\nMedeiros/Lucas\, Né Ladeiras\, Mão Morta\, Throes + The Shine\, Filipe Sambado\, Señoritas\, Zé Nuno\, Sam U\, Beatdizorder\, Les Saint Armand\, Lucía Vives + João Raposo\, Filipe Valentim\, Lander & Jonas SonicBlast\, Moledo: The Machine\, Death Alley\, Blaak Heat\, Löbo\, Toxic Shock\, Vinnum Sabbathi\, Holy Mushroom\, Orange Goblin\, Kadavar\, Sasquatch\, Gagarin\, The Well!\, Elder\, Kikagaku Moyo e Monolord\n\nDia 13\nFrankie Chavez\, José Cid\, Rodrigo Leão\, The Poppers\, Octa Push\, Marco Luz\, Valter Lobo\, Rodrigo Affreixo\, LST\, Sanct’ irene\, Moçoilas\n 
URL:http://mdemusica.pt/agenda/festival-bons-sons/
LOCATION:Cem Soldos\, Cem Soldos\, Tomar
ATTACH;FMTTYPE=image/jpeg:http://mdemusica.pt/wp-content/uploads/2017/03/Festival-Bons-Sons.jpg
END:VEVENT
BEGIN:VEVENT
DTSTART;VALUE=DATE:20170811
DTEND;VALUE=DATE:20170812
DTSTAMP:20260420T001822
CREATED:20170604T143305Z
LAST-MODIFIED:20170604T143305Z
UID:11562-1502409600-1502495999@mdemusica.pt
SUMMARY:Carviçais Rock: Ninja Kore\, The Poppers\, Sean Riley & The Slowriders
DESCRIPTION:
URL:http://mdemusica.pt/agenda/carvicais-rock-ninja-kore-the-poppers-sean-riley-the-slowriders/
LOCATION:Torre de Moncorvo
ATTACH;FMTTYPE=image/jpeg:http://mdemusica.pt/wp-content/uploads/2017/06/l_carvicaisrock2017.jpeg
END:VEVENT
BEGIN:VEVENT
DTSTART;VALUE=DATE:20170811
DTEND;VALUE=DATE:20170812
DTSTAMP:20260420T001822
CREATED:20170604T144432Z
LAST-MODIFIED:20170604T144432Z
UID:11574-1502409600-1502495999@mdemusica.pt
SUMMARY:Festival OITO24: The Gift
DESCRIPTION:
URL:http://mdemusica.pt/agenda/festival-oito24-the-gift/
LOCATION:Espinho\, Espinho\, Portugal
ATTACH;FMTTYPE=image/jpeg:http://mdemusica.pt/wp-content/uploads/2017/06/13230078_843532602456940_7565605814407659808_n.jpeg
END:VEVENT
BEGIN:VEVENT
DTSTART;VALUE=DATE:20170811
DTEND;VALUE=DATE:20170812
DTSTAMP:20260420T001822
CREATED:20170630T143625Z
LAST-MODIFIED:20170630T143625Z
UID:11912-1502409600-1502495999@mdemusica.pt
SUMMARY:Reguengos Wine & Blues Fest\, Parque de Feiras e Exposições\, Reguengos de Monsaraz
DESCRIPTION:Chino & The Big Bet\, Buddah Power Blues e Maria João
URL:http://mdemusica.pt/agenda/reguengos-wine-blues-fest-parque-feiras-exposicoes-reguengos-monsaraz/
LOCATION:Parque de Feiras e Exposições\, Reguengos de Monsaraz\, Portugal
ATTACH;FMTTYPE=image/jpeg:http://mdemusica.pt/wp-content/uploads/2017/06/unnamed7.jpg
END:VEVENT
END:VCALENDAR