BEGIN:VCALENDAR
VERSION:2.0
PRODID:-//M de Música - ECPv5.14.1//NONSGML v1.0//EN
CALSCALE:GREGORIAN
METHOD:PUBLISH
X-WR-CALNAME:M de Música
X-ORIGINAL-URL:http://mdemusica.pt
X-WR-CALDESC:Events for M de Música
BEGIN:VTIMEZONE
TZID:Europe/Lisbon
BEGIN:DAYLIGHT
TZOFFSETFROM:+0000
TZOFFSETTO:+0100
TZNAME:WEST
DTSTART:20170326T010000
END:DAYLIGHT
BEGIN:STANDARD
TZOFFSETFROM:+0100
TZOFFSETTO:+0000
TZNAME:WET
DTSTART:20171029T010000
END:STANDARD
END:VTIMEZONE
BEGIN:VEVENT
DTSTART;VALUE=DATE:20170803
DTEND;VALUE=DATE:20170806
DTSTAMP:20260420T001821
CREATED:20170206T175057Z
LAST-MODIFIED:20170206T175057Z
UID:9936-1501718400-1501977599@mdemusica.pt
SUMMARY:Neopop Festival 2017
DESCRIPTION:Kraftwerk 3D (live)\, Moderat (live)\, Rødhad\, Planetary Assault Systems (live)\, DJ Stingray\, Voiski (live)\, Sonja Moonear\, Dax J\, Paula Temple\, Eric Cloutier
URL:http://mdemusica.pt/agenda/neopop-festival-2017/
LOCATION:Forte de Santiago da Barra\, Campo do Castelo\, Monserrate \, Viana do Castelo\, 4900-372 \, Portugal
ATTACH;FMTTYPE=image/png:http://mdemusica.pt/wp-content/uploads/2017/02/Neopop-Festiva.png
END:VEVENT
BEGIN:VEVENT
DTSTART;VALUE=DATE:20170803
DTEND;VALUE=DATE:20170804
DTSTAMP:20260420T001821
CREATED:20170227T112449Z
LAST-MODIFIED:20170525T200605Z
UID:10122-1501718400-1501804799@mdemusica.pt
SUMMARY:Meo Sudoeste: DJ Snake\, Marshmello\, Two Door Cinema Club\, Mishlawi\, Liga Knock Out\, Malabá\, ProfJam\, Leandro 300\, Ptzgrilla (Favela Rave)
DESCRIPTION:
URL:http://mdemusica.pt/agenda/dj-snake-marshmello-meo-sudoeste/
LOCATION:Meo Sudoeste\, Herdade da Casa Branca\, Zambujeira do Mar\, Portugal
ATTACH;FMTTYPE=image/png:http://mdemusica.pt/wp-content/uploads/2016/11/Já-estão-à-venda-os-bilhetes-para-o-21º-Meo-Sudoeste.png
END:VEVENT
BEGIN:VEVENT
DTSTART;VALUE=DATE:20170803
DTEND;VALUE=DATE:20170806
DTSTAMP:20260420T001821
CREATED:20170306T131245Z
LAST-MODIFIED:20170630T141406Z
UID:10330-1501718400-1501977599@mdemusica.pt
SUMMARY:Neopop Festival
DESCRIPTION:Dixon\, Maceo Plex\, Helena Hauff\, Loco Disce\, Paco Osuna\, Chris Liebing\, Solar\, Speedy J (live)\, DJ Bone\, Jane Fitz\, Svreca\, Dr. Rubinstein\, Zadig (live)\, Lewis Fautzi\, Alex FX\, Cardia\, Dexter\, Diana Oliveira & Vasco Valente\, Frank Maurel\, Freshkitos\, Glove b2b Trigger\, Lewis Fautzi\, Magazino\, Moses & Nuno\, Pixel82\, Ramboiage\, Rui Vargas b2b Tiago (ACID AKTION)\, RUUAR\, Serginho\, Sonja\, Switchdance\, Terzi\, Tiago Fragateiro e TRIKK
URL:http://mdemusica.pt/agenda/neopop-festival/
LOCATION:Neopop\, R. dos Mariantes\, Viana do Castelo\, 4900-350 \, Portugal
ATTACH;FMTTYPE=image/jpeg:http://mdemusica.pt/wp-content/uploads/2017/03/neopop-2017.jpg
END:VEVENT
END:VCALENDAR