BEGIN:VCALENDAR
VERSION:2.0
PRODID:-//M de Música - ECPv5.14.1//NONSGML v1.0//EN
CALSCALE:GREGORIAN
METHOD:PUBLISH
X-WR-CALNAME:M de Música
X-ORIGINAL-URL:http://mdemusica.pt
X-WR-CALDESC:Events for M de Música
BEGIN:VTIMEZONE
TZID:Europe/Lisbon
BEGIN:DAYLIGHT
TZOFFSETFROM:+0000
TZOFFSETTO:+0100
TZNAME:WEST
DTSTART:20170326T010000
END:DAYLIGHT
BEGIN:STANDARD
TZOFFSETFROM:+0100
TZOFFSETTO:+0000
TZNAME:WET
DTSTART:20171029T010000
END:STANDARD
END:VTIMEZONE
BEGIN:VEVENT
DTSTART;VALUE=DATE:20170720
DTEND;VALUE=DATE:20170724
DTSTAMP:20260420T014255
CREATED:20170703T232712Z
LAST-MODIFIED:20170703T232712Z
UID:11946-1500508800-1500854399@mdemusica.pt
SUMMARY:Tradidanças – Festival de Tradições\, Música e Dança\, São Pedro do Sul
DESCRIPTION:  \nBlasted Mechanism\, Olive Tree Dance\, The Greyhound James’ Band\, Tranglomango com Cantares de Sobral de Pinho\, Galo Cant’às Duas\, Tresor & Bosxh\, Second Sunrise\, Nils Meisel\, Fora da Lei\, The Boss\, Miguel Rodrigues \n 
URL:http://mdemusica.pt/agenda/tradidancas-festival-tradicoes-musica-danca-serra-da-arada-carvalhais-candal-sao-pedro-do-sul/
LOCATION:Tradidanças\, Serra da Arada\, São Pedro do Sul\, Portugal
ATTACH;FMTTYPE=image/png:http://mdemusica.pt/wp-content/uploads/2017/07/tradidanças.png
END:VEVENT
BEGIN:VEVENT
DTSTART;VALUE=DATE:20170721
DTEND;VALUE=DATE:20170730
DTSTAMP:20260420T014255
CREATED:20170704T163010Z
LAST-MODIFIED:20170704T163010Z
UID:11958-1500595200-1501372799@mdemusica.pt
SUMMARY:Festival Músicas do Mundo\, Porto Covo/Sines
DESCRIPTION:António Chainho\, André Baptista\, Mohammad Reza Mortazavi\, Leyla McCalla\, Bareto\, Costa Neto & João Afonso\, Gustavisto & A Bicicleta\, Waldemar Bastos\, Mabang\, Basel Rajoub Trio\, Orquestra Latinidade\, Nessi Gomes\, The Barberettes\, Cantos de Cego da Galiza e Portugal\, Mike Love\, Makely Ka\, Coladera\, Saul Williams\, Jae Sessions\, Boi Akih\, Sumrrá\, N3rdistan\, Simply Rockers Sound System\, Medeiros/Lucas\, Cristina Branco\, Metá Metá\, Savina Yannatou & Primavera en Salonico\, Richard Bona Mandekan Cubano\, Den Sorte Skole\, Ifriqiyya Électrique\, La Mambanegra\, Maria Arnal I Marcel Bagés\, Tulegur\, Ìfé\, Mercedes Peón\, Emicida\, A-Wa\, Aurelio\, Romperayo\, Parvathy Baul\, Sopa de Pedra\, Benjamim/Barnaby Keen\, BCUC\, Fatoumata Diawara & Hindi Zahra\, Mário Lúcio\, Orlando Julius & Bixiga 70\, Thomas de Pourquery & Supersonic\, Chico Trujillo\, Vasco Martins\, Lura\, Mateo Kingman\, Gaye Su Akyol\, Oumou Sangaré\, Tiken Jah Fakoly\, Afrikan Boy\, Bulldozer\, Celeste/Mariposa
URL:http://mdemusica.pt/agenda/festival-musicas-do-mundo-porto-covosines/
LOCATION:Festival Músicas do Mundo\,  Largo do Poeta Bocage 5\, Sines\,  7520-152\, Portugal
ATTACH;FMTTYPE=image/png:http://mdemusica.pt/wp-content/uploads/2017/07/18767837_10158926322420438_6499422113601208936_n.png
END:VEVENT
BEGIN:VEVENT
DTSTART;VALUE=DATE:20170723
DTEND;VALUE=DATE:20170724
DTSTAMP:20260420T014255
CREATED:20170410T132527Z
LAST-MODIFIED:20170520T142705Z
UID:10686-1500768000-1500854399@mdemusica.pt
SUMMARY:Maria Gadú\, Filipe Catto\, edpcooljazz\, Jardins do Marques de Pombal\, Oeiras
DESCRIPTION:
URL:http://mdemusica.pt/agenda/maria-gadu-edpcooljazz-jardins-do-marques-pombal-oeiras/
LOCATION:Jardins do Marquês de Pombal\,  Jardins do Marquês de Pombal\, Oeiras\, Oeiras\, Portugal
ATTACH;FMTTYPE=image/png:http://mdemusica.pt/wp-content/uploads/2017/02/en_cartaz_completo.png
END:VEVENT
BEGIN:VEVENT
DTSTART;VALUE=DATE:20170723
DTEND;VALUE=DATE:20170724
DTSTAMP:20260420T014255
CREATED:20170427T152042Z
LAST-MODIFIED:20170606T191842Z
UID:10943-1500768000-1500854399@mdemusica.pt
SUMMARY:MIMO Festival Amarante: Rodrigo Amarante\, Manel Cruz\, Céu\, Filipe Raposo\, Ala.Ni\, Ricardo Ribeiro\,
DESCRIPTION:
URL:http://mdemusica.pt/agenda/mimo-festival-amarante-manel-cruz-ceu/
ATTACH;FMTTYPE=image/jpeg:http://mdemusica.pt/wp-content/uploads/2017/02/455.original.jpeg
END:VEVENT
BEGIN:VEVENT
DTSTART;VALUE=DATE:20170723
DTEND;VALUE=DATE:20170724
DTSTAMP:20260420T014255
CREATED:20170525T114204Z
LAST-MODIFIED:20170525T114204Z
UID:11494-1500768000-1500854399@mdemusica.pt
SUMMARY:AgitÁgueda: Gabriel O Pensador
DESCRIPTION:
URL:http://mdemusica.pt/agenda/agitagueda-gabriel-pensador/
LOCATION:Águeda\, Águeda\, Portugal
ATTACH;FMTTYPE=image/jpeg:http://mdemusica.pt/wp-content/uploads/2017/05/unnamed1-4.jpg
END:VEVENT
BEGIN:VEVENT
DTSTART;VALUE=DATE:20170723
DTEND;VALUE=DATE:20170724
DTSTAMP:20260420T014255
CREATED:20170630T125257Z
LAST-MODIFIED:20170630T125257Z
UID:11880-1500768000-1500854399@mdemusica.pt
SUMMARY:Milhões de Festa\, Barcelos
DESCRIPTION:Hieroglyphic\, Being Powell\, Meatbodies\, Pop Dell’Arte\, Bad Breeding\, Sarathy Korwar\, Chúpame El Dedo\, Shame\, Pixvae\, Riding Panico\, Sarathy Korwar + Hieroglyphic Being\, Ghost Wavvves + Mike El Nite\, DJ Fitz\, Galgo\, BALA\, Italia 90\, diola\, Iguana Garcia\, Suave Geração
URL:http://mdemusica.pt/agenda/milhoes-festa-barcelos-4/
LOCATION:Milhões de Festa\, R. João Macedo Correia 98\, Barcelos\, 4750-303 
ATTACH;FMTTYPE=image/jpeg:http://mdemusica.pt/wp-content/uploads/2017/06/milhoes-festa-2017-14fev.jpg
END:VEVENT
END:VCALENDAR