BEGIN:VCALENDAR
VERSION:2.0
PRODID:-//M de Música - ECPv5.14.1//NONSGML v1.0//EN
CALSCALE:GREGORIAN
METHOD:PUBLISH
X-WR-CALNAME:M de Música
X-ORIGINAL-URL:http://mdemusica.pt
X-WR-CALDESC:Events for M de Música
BEGIN:VTIMEZONE
TZID:Europe/Lisbon
BEGIN:DAYLIGHT
TZOFFSETFROM:+0000
TZOFFSETTO:+0100
TZNAME:WEST
DTSTART:20170326T010000
END:DAYLIGHT
BEGIN:STANDARD
TZOFFSETFROM:+0100
TZOFFSETTO:+0000
TZNAME:WET
DTSTART:20171029T010000
END:STANDARD
END:VTIMEZONE
BEGIN:VEVENT
DTSTART;VALUE=DATE:20170706
DTEND;VALUE=DATE:20170707
DTSTAMP:20260420T014128
CREATED:20170206T155335Z
LAST-MODIFIED:20170609T165432Z
UID:9797-1499299200-1499385599@mdemusica.pt
SUMMARY:NOS Alive\, The Weeknd\, The xx\, Phoenix\, Royal Blood\, alt-J\, Bonobo\, Ryan Adams\, Glass Animals\, Rhye\, Blossoms\, You Can't Win\, Charlie Brown\, Miguel Araújo\, Riot\, Rastronaut\, Izem\, Dotorado Pro\, Kking Kong
DESCRIPTION:
URL:http://mdemusica.pt/agenda/nos-alive17-6-7-8-jul/
LOCATION:Passeio Marítimo de Algés\, Passeio Marítimo de Algés MB\, Lisboa\, Portugal
ATTACH;FMTTYPE=image/png:http://mdemusica.pt/wp-content/uploads/2017/02/NOS-Alive-The-Weeknd.png
END:VEVENT
END:VCALENDAR