BEGIN:VCALENDAR
VERSION:2.0
PRODID:-//M de Música - ECPv5.14.1//NONSGML v1.0//EN
CALSCALE:GREGORIAN
METHOD:PUBLISH
X-WR-CALNAME:M de Música
X-ORIGINAL-URL:http://mdemusica.pt
X-WR-CALDESC:Events for M de Música
BEGIN:VTIMEZONE
TZID:Europe/Lisbon
BEGIN:DAYLIGHT
TZOFFSETFROM:+0000
TZOFFSETTO:+0100
TZNAME:WEST
DTSTART:20170326T010000
END:DAYLIGHT
BEGIN:STANDARD
TZOFFSETFROM:+0100
TZOFFSETTO:+0000
TZNAME:WET
DTSTART:20171029T010000
END:STANDARD
END:VTIMEZONE
BEGIN:VEVENT
DTSTART;VALUE=DATE:20170630
DTEND;VALUE=DATE:20170701
DTSTAMP:20260422T100527
CREATED:20170403T105105Z
LAST-MODIFIED:20170422T172425Z
UID:10550-1498780800-1498867199@mdemusica.pt
SUMMARY:Sumol Summer Fest: Fat Joe\, A História do Hip Hop Tuga\, DJ BIG\, Digital Farm Animals\, DJ Dadda\, insch\, Fugly
DESCRIPTION: 
URL:http://mdemusica.pt/agenda/sumol-summer-fest-historia-do-hip-hop-tuga-fat-joe-digital-farm-animals-dj-dadda-insch/
LOCATION:Ericeira Camping\, Ericeira Camping Parque de Campismo de Mil Regos Estrada Nacional 247\, km 49\,4\, ERICEIRA\,  2655-319 \, Portugal
ATTACH;FMTTYPE=image/jpeg:http://mdemusica.pt/wp-content/uploads/2017/04/l_s_sumolsummerfest2017.jpg
END:VEVENT
BEGIN:VEVENT
DTSTART;VALUE=DATE:20170630
DTEND;VALUE=DATE:20170701
DTSTAMP:20260422T100528
CREATED:20170429T194602Z
LAST-MODIFIED:20170429T194602Z
UID:10999-1498780800-1498867199@mdemusica.pt
SUMMARY:Martin Garrix\, Tony Junior\, Matisse & Sadko\, Carnage\, Carlos Manaça\, Karetus\, EDP Beach Party\, Praia do Aterro Norte
DESCRIPTION:
URL:http://mdemusica.pt/agenda/martin-garrix-tony-junior-matisse-sadko-carnage-carlos-manaca-karetus-edp-beach-party-praia-do-aterro-norte/
LOCATION:Praia do Aterro Norte\, Praia Do Aterro Norte\, Perafita\, Matosinhos\, Porto\, Portugal
ATTACH;FMTTYPE=image/png:http://mdemusica.pt/wp-content/uploads/2017/02/unnamed.png
END:VEVENT
BEGIN:VEVENT
DTSTART;VALUE=DATE:20170630
DTEND;VALUE=DATE:20170701
DTSTAMP:20260422T100528
CREATED:20170520T115253Z
LAST-MODIFIED:20170520T115253Z
UID:11343-1498780800-1498867199@mdemusica.pt
SUMMARY:Danae Estrela\, Sopa de Pedra\, Gala de Apresentação Ciclo Mundos\, Estádio 1º de Maio\, Lisboa
DESCRIPTION:
URL:http://mdemusica.pt/agenda/danae-estrela-sopa-de-pedra-gala-de-apresentacao-ciclo-mundos-estadio-1o-de-maio-lisboa/
LOCATION:Estádio 1º de Maio\, Av. Rio de Janeiro\, Lisboa\, 1700-330 Lisboa\, Portugal
ATTACH;FMTTYPE=image/jpeg:http://mdemusica.pt/wp-content/uploads/2017/05/danae.jpeg
END:VEVENT
BEGIN:VEVENT
DTSTART;VALUE=DATE:20170630
DTEND;VALUE=DATE:20170701
DTSTAMP:20260422T100528
CREATED:20170617T202247Z
LAST-MODIFIED:20170617T202247Z
UID:11736-1498780800-1498867199@mdemusica.pt
SUMMARY:Festival MED\, Zona Histórica\, Loulé
DESCRIPTION:Helder Moutinho\, Óquestrada\, Throes + The Shine\, Lura\, Canzoniere Grecanico Salentino\, BNEgão\, Rodrigo Leão\, Boogat\, H.A.T.
URL:http://mdemusica.pt/agenda/festival-med-zona-historica-loule-2/
LOCATION:Zona Histórica\, Loulé\, Portugal
ATTACH;FMTTYPE=image/jpeg:http://mdemusica.pt/wp-content/uploads/2017/06/l_med2017_2.jpeg
END:VEVENT
END:VCALENDAR