BEGIN:VCALENDAR
VERSION:2.0
PRODID:-//M de Música - ECPv5.14.1//NONSGML v1.0//EN
CALSCALE:GREGORIAN
METHOD:PUBLISH
X-WR-CALNAME:M de Música
X-ORIGINAL-URL:http://mdemusica.pt
X-WR-CALDESC:Events for M de Música
BEGIN:VTIMEZONE
TZID:Europe/Lisbon
BEGIN:DAYLIGHT
TZOFFSETFROM:+0000
TZOFFSETTO:+0100
TZNAME:WEST
DTSTART:20170326T010000
END:DAYLIGHT
BEGIN:STANDARD
TZOFFSETFROM:+0100
TZOFFSETTO:+0000
TZNAME:WET
DTSTART:20171029T010000
END:STANDARD
END:VTIMEZONE
BEGIN:VEVENT
DTSTART;VALUE=DATE:20170626
DTEND;VALUE=DATE:20170627
DTSTAMP:20260420T014702
CREATED:20170519T145712Z
LAST-MODIFIED:20170519T145712Z
UID:11327-1498435200-1498521599@mdemusica.pt
SUMMARY:Pedro Jóia Trio convida Ney Matogrosso\, Mosteiro dos Jerónimos\, Lisboa
DESCRIPTION:
URL:http://mdemusica.pt/agenda/pedro-joia-trio-convida-ney-matogrosso-mosteiro-dos-jeronimos-lisboa/
LOCATION:Mosteiro dos Jerónimos\, Praça do Império \, Lisboa\, 1400-206 \, Portugal
ATTACH;FMTTYPE=image/jpeg:http://mdemusica.pt/wp-content/uploads/2017/05/unnamed-4.jpeg
END:VEVENT
END:VCALENDAR