BEGIN:VCALENDAR
VERSION:2.0
PRODID:-//M de Música - ECPv5.14.1//NONSGML v1.0//EN
CALSCALE:GREGORIAN
METHOD:PUBLISH
X-WR-CALNAME:M de Música
X-ORIGINAL-URL:http://mdemusica.pt
X-WR-CALDESC:Events for M de Música
BEGIN:VTIMEZONE
TZID:Europe/Lisbon
BEGIN:DAYLIGHT
TZOFFSETFROM:+0000
TZOFFSETTO:+0100
TZNAME:WEST
DTSTART:20170326T010000
END:DAYLIGHT
BEGIN:STANDARD
TZOFFSETFROM:+0100
TZOFFSETTO:+0000
TZNAME:WET
DTSTART:20171029T010000
END:STANDARD
END:VTIMEZONE
BEGIN:VEVENT
DTSTART;VALUE=DATE:20170616
DTEND;VALUE=DATE:20170618
DTSTAMP:20260420T030251
CREATED:20170320T173338Z
LAST-MODIFIED:20170320T173338Z
UID:10466-1497571200-1497743999@mdemusica.pt
SUMMARY:Festival Liberdade\, Parque Urbano de Albarquel
DESCRIPTION:Dia 16\nAmor Electro\, Bezegol\, Diogo Piçarra\nDia 17\nXutos & Pontapés\, Supernova\, Capicua
URL:http://mdemusica.pt/agenda/amor-electro-bezegol-diogo-picarra-festival-liberdade-parque-urbano-albarquel-setuba/
LOCATION:Parque Urbano de Albarquel\, Albarquel\, Setúbal\, 2900\, Portugal
ATTACH;FMTTYPE=image/png:http://mdemusica.pt/wp-content/uploads/2017/03/Amor-Electro-Bezegol-Diogo-Piçarra-Festival-Liberdade-Parque-Urbano-de-Albarquel-Setúba.png
END:VEVENT
BEGIN:VEVENT
DTSTART;VALUE=DATE:20170617
DTEND;VALUE=DATE:20170618
DTSTAMP:20260420T030251
CREATED:20161219T130808Z
LAST-MODIFIED:20170206T153907Z
UID:9469-1497657600-1497743999@mdemusica.pt
SUMMARY:Sean Riley & The Slowriders\, Cine-Teatro Avenida
DESCRIPTION:
URL:http://mdemusica.pt/agenda/sean-riley-the-slowriders-cine-teatro-avenida/
LOCATION:Cine-Teatro Avenida\,  Av. Gen. Humberto Delgado\, 6000-081 Castelo Branco\, 6000-081 Castelo Branco
ATTACH;FMTTYPE=image/jpeg:http://mdemusica.pt/wp-content/uploads/2016/12/20160411-lettring-SRSR-937x327.jpg
END:VEVENT
BEGIN:VEVENT
DTSTART;VALUE=DATE:20170617
DTEND;VALUE=DATE:20170618
DTSTAMP:20260420T030251
CREATED:20170422T203156Z
LAST-MODIFIED:20170422T203156Z
UID:10839-1497657600-1497743999@mdemusica.pt
SUMMARY:Sensible Soccers\, Festival Vira Pop\, Amares
DESCRIPTION:
URL:http://mdemusica.pt/agenda/sensible-soccers-festival-vira-pop-amares/
LOCATION:Festival Vira Pop\, Amares\, Portugal
ATTACH;FMTTYPE=image/png:http://mdemusica.pt/wp-content/uploads/2017/04/unnamed.png
END:VEVENT
BEGIN:VEVENT
DTSTART;VALUE=DATE:20170617
DTEND;VALUE=DATE:20170618
DTSTAMP:20260420T030251
CREATED:20170506T124203Z
LAST-MODIFIED:20170513T174005Z
UID:11092-1497657600-1497743999@mdemusica.pt
SUMMARY:Rock Nordeste: Mão Morta\, The Legendary Tigerman\, Slow J\, Márcia\, Samuel Úria\, Beatbombers
DESCRIPTION:
URL:http://mdemusica.pt/agenda/rock-nordeste-mao-morta-slow-j-marcia-samuel-uria-beatbombers/
LOCATION:Vila Real\, Vila Real\, Portugal
ATTACH;FMTTYPE=image/jpeg:http://mdemusica.pt/wp-content/uploads/2017/04/5D3_7417-WebHigh.jpg
END:VEVENT
BEGIN:VEVENT
DTSTART;VALUE=DATE:20170617
DTEND;VALUE=DATE:20170618
DTSTAMP:20260420T030251
CREATED:20170604T141249Z
LAST-MODIFIED:20170604T141249Z
UID:11554-1497657600-1497743999@mdemusica.pt
SUMMARY:Ace\, Hard Club\, Porto
DESCRIPTION:
URL:http://mdemusica.pt/agenda/ace-hard-club-porto/
LOCATION:Hard Club\, Mercado Ferreira Borges\, Rua Infante D. Henrique\, 95 \, Porto\,  4050-252\, Portugal
ATTACH;FMTTYPE=image/jpeg:http://mdemusica.pt/wp-content/uploads/2017/06/unnamed1.jpg
END:VEVENT
BEGIN:VEVENT
DTSTART;VALUE=DATE:20170617
DTEND;VALUE=DATE:20170618
DTSTAMP:20260420T030251
CREATED:20170605T151521Z
LAST-MODIFIED:20170605T151521Z
UID:11599-1497657600-1497743999@mdemusica.pt
SUMMARY:Sandy Kilpatrick\, Forte de Beliche\, Sagres
DESCRIPTION:
URL:http://mdemusica.pt/agenda/sandy-kilpatrick-forte-beliche-sagres/
LOCATION:Forte do Beliche\, Sagres
ATTACH;FMTTYPE=image/jpeg:http://mdemusica.pt/wp-content/uploads/2017/06/unnamed4.jpg
END:VEVENT
BEGIN:VEVENT
DTSTART;VALUE=DATE:20170617
DTEND;VALUE=DATE:20170618
DTSTAMP:20260420T030251
CREATED:20170605T152856Z
LAST-MODIFIED:20170605T152856Z
UID:11609-1497657600-1497743999@mdemusica.pt
SUMMARY:Guitarras ao Alto: Peixe e Frankie Chavez\, Train Spot\, Beirã-Marvão
DESCRIPTION:
URL:http://mdemusica.pt/agenda/guitarras-ao-alto-peixe-frankie-chavez-train-spot-beira-marvao/
LOCATION:Train Spot\, Estação Ferroviária de Beirã/Marvão\, Largo da Alfândega\, Marvão\, 7330-017 Marvão\, Portugal
ATTACH;FMTTYPE=image/png:http://mdemusica.pt/wp-content/uploads/2017/06/A3_Geral_Guitarras_2017_af.png
END:VEVENT
END:VCALENDAR