BEGIN:VCALENDAR
VERSION:2.0
PRODID:-//M de Música - ECPv5.14.1//NONSGML v1.0//EN
CALSCALE:GREGORIAN
METHOD:PUBLISH
X-WR-CALNAME:M de Música
X-ORIGINAL-URL:http://mdemusica.pt
X-WR-CALDESC:Events for M de Música
BEGIN:VTIMEZONE
TZID:Europe/Lisbon
BEGIN:DAYLIGHT
TZOFFSETFROM:+0000
TZOFFSETTO:+0100
TZNAME:WEST
DTSTART:20170326T010000
END:DAYLIGHT
BEGIN:STANDARD
TZOFFSETFROM:+0100
TZOFFSETTO:+0000
TZNAME:WET
DTSTART:20171029T010000
END:STANDARD
END:VTIMEZONE
BEGIN:VEVENT
DTSTART;VALUE=DATE:20170612
DTEND;VALUE=DATE:20170613
DTSTAMP:20260420T030809
CREATED:20170520T134911Z
LAST-MODIFIED:20170520T134911Z
UID:11386-1497225600-1497311999@mdemusica.pt
SUMMARY:Pega Monstro\, Jardim do Palácio do Machadinho\, Lisboa
DESCRIPTION:
URL:http://mdemusica.pt/agenda/pega-monstro-jardim-do-palacio-do-machadinho-lisboa/
LOCATION:Jardim do Palácio do Machadinho\, Rua do Quelhas\, 13\, Lisboa\, Portugal
ATTACH;FMTTYPE=image/jpeg:http://mdemusica.pt/wp-content/uploads/2017/05/cdc000054promo_pega_monstro_sara_rafael.jpeg
ORGANIZER;CN="Filho%20%C3%9Anico%20-%20Associa%C3%A7%C3%A3o%20Cultural":MAILTO:info@filhounico.com
END:VEVENT
END:VCALENDAR