BEGIN:VCALENDAR
VERSION:2.0
PRODID:-//M de Música - ECPv5.14.1//NONSGML v1.0//EN
CALSCALE:GREGORIAN
METHOD:PUBLISH
X-WR-CALNAME:M de Música
X-ORIGINAL-URL:http://mdemusica.pt
X-WR-CALDESC:Events for M de Música
BEGIN:VTIMEZONE
TZID:Europe/Lisbon
BEGIN:DAYLIGHT
TZOFFSETFROM:+0000
TZOFFSETTO:+0100
TZNAME:WEST
DTSTART:20170326T010000
END:DAYLIGHT
BEGIN:STANDARD
TZOFFSETFROM:+0100
TZOFFSETTO:+0000
TZNAME:WET
DTSTART:20171029T010000
END:STANDARD
END:VTIMEZONE
BEGIN:VEVENT
DTSTART;VALUE=DATE:20170601
DTEND;VALUE=DATE:20170603
DTSTAMP:20260420T031252
CREATED:20170422T183317Z
LAST-MODIFIED:20170422T183317Z
UID:10824-1496275200-1496447999@mdemusica.pt
SUMMARY:MIL - Lisbon International Music Network: A Cigarra & Birdzzie\, Aamar\, Adam Naas\, B Fachada\, Banda B.Leza\, Benjamim\, Bispo\, Cachupa Psicadélica\, Capitão Fausto\, Cave Story\, Da Chick\, Diron Animal\, DJ Firmeza\, Duquesa\, Éme\, Faon Faon\,  First Breath After Coma\, The French Beat\, Galgo\, Golden Slumbers\, Izem\, Jibóia + Ricardo Martins\, Lavoisier\, Lawrence & The Hearts\, Linda Martini\, Luca Argel\, Maboku\, Marvel Lima\, Mazgani\, Medeiros/Lucas\, Midnight Ravers\, Mirror People\, Momo\, Motta\, Paus\, Quelle Dead Gazelle\, Riding Pânico\, Rocky Marsiano\, Scuru Fitchadu\, Selma Uamusse\, Sensible Soccers\, Sonars\, Stone Dead\, Sun Glitters\, Surma\, The Sunflowers\, White Haus\, Xinobi\, You Can’t Win\, Charlie Brown.
DESCRIPTION:
URL:http://mdemusica.pt/agenda/mil-lisbon-international-music-network/
ATTACH;FMTTYPE=image/jpeg:http://mdemusica.pt/wp-content/uploads/2017/04/mil_logo_e_datas_versao_vertical_cmyc-750x422.jpeg
END:VEVENT
BEGIN:VEVENT
DTSTART;VALUE=DATE:20170602
DTEND;VALUE=DATE:20170603
DTSTAMP:20260420T031252
CREATED:20170320T171744Z
LAST-MODIFIED:20170320T171744Z
UID:10461-1496361600-1496447999@mdemusica.pt
SUMMARY:Patxi Andion\, Centro Cultural de Belém
DESCRIPTION:
URL:http://mdemusica.pt/agenda/patxi-andion-centro-cultural-de-belem-lisboa/
LOCATION:Centro Cultural de Belém\, Praça do Império\, \, Lisboa\, 1449-003 \, Portugal
ATTACH;FMTTYPE=image/jpeg:http://mdemusica.pt/wp-content/uploads/2017/03/Patxi-Andion-Centro-Cultural-de-Belém-Lisboa.jpg
END:VEVENT
BEGIN:VEVENT
DTSTART;VALUE=DATE:20170602
DTEND;VALUE=DATE:20170603
DTSTAMP:20260420T031252
CREATED:20170410T122524Z
LAST-MODIFIED:20170410T122524Z
UID:10666-1496361600-1496447999@mdemusica.pt
SUMMARY:Orquestra de Jazz da EPME com José Pedro Coelho\, Auditório de Espinho
DESCRIPTION:
URL:http://mdemusica.pt/agenda/orquestra-jazz-da-epme-jose-pedro-coelho-auditorio-espinho/
LOCATION:Auditório de Espinho\, Rua 34\, nº884 –\, Espinho\,  4500-318 \, Portugal
ATTACH;FMTTYPE=image/jpeg:http://mdemusica.pt/wp-content/uploads/2017/04/Orquestra-de-Jazz-da-EPME-com-Mário-Laginha-Auditório-de-Espinho.jpeg
END:VEVENT
BEGIN:VEVENT
DTSTART;VALUE=DATE:20170602
DTEND;VALUE=DATE:20170603
DTSTAMP:20260420T031252
CREATED:20170410T123017Z
LAST-MODIFIED:20170520T144754Z
UID:10668-1496361600-1496447999@mdemusica.pt
SUMMARY:Skunk Anansie\, Salvador Sobral\, Amor Electro\, Regula\, Sean Riley and the Slowriders\, Erick Morillo – North Music Festival\, Guimarães
DESCRIPTION:
URL:http://mdemusica.pt/agenda/amor-electro-regula-sean-riley-and-the-slowriders-north-festival-guimaraes/
LOCATION:North Music Festival\, Rua de S. Gonçalo\, Apartado 505\, Guimarães\, 4810 \, Portugal
ATTACH;FMTTYPE=image/jpeg:http://mdemusica.pt/wp-content/uploads/2017/04/unnamed2-1.jpg
END:VEVENT
BEGIN:VEVENT
DTSTART;VALUE=DATE:20170602
DTEND;VALUE=DATE:20170603
DTSTAMP:20260420T031252
CREATED:20170516T165834Z
LAST-MODIFIED:20170516T165834Z
UID:11298-1496361600-1496447999@mdemusica.pt
SUMMARY:Cacique'97\, Hard Club\, Porto
DESCRIPTION:
URL:http://mdemusica.pt/agenda/cacique97-hard-club-porto/
LOCATION:Hard Club\, Mercado Ferreira Borges\, Rua Infante D. Henrique\, 95 \, Porto\,  4050-252\, Portugal
ATTACH;FMTTYPE=image/jpeg:http://mdemusica.pt/wp-content/uploads/2017/05/unnamed-3.jpeg
END:VEVENT
END:VCALENDAR