BEGIN:VCALENDAR
VERSION:2.0
PRODID:-//M de Música - ECPv5.14.1//NONSGML v1.0//EN
CALSCALE:GREGORIAN
METHOD:PUBLISH
X-WR-CALNAME:M de Música
X-ORIGINAL-URL:http://mdemusica.pt
X-WR-CALDESC:Events for M de Música
BEGIN:VTIMEZONE
TZID:Europe/Lisbon
BEGIN:DAYLIGHT
TZOFFSETFROM:+0000
TZOFFSETTO:+0100
TZNAME:WEST
DTSTART:20170326T010000
END:DAYLIGHT
BEGIN:STANDARD
TZOFFSETFROM:+0100
TZOFFSETTO:+0000
TZNAME:WET
DTSTART:20171029T010000
END:STANDARD
END:VTIMEZONE
BEGIN:VEVENT
DTSTART;VALUE=DATE:20170527
DTEND;VALUE=DATE:20170528
DTSTAMP:20260420T043502
CREATED:20170403T103637Z
LAST-MODIFIED:20170403T104508Z
UID:10544-1495843200-1495929599@mdemusica.pt
SUMMARY:Samuel Úria & Amigos\, Teatro Tivoli BBVA\, Lisboa
DESCRIPTION:
URL:http://mdemusica.pt/agenda/samuel-uria-amigos-teatro-tivoli-bbva-lisboa/
LOCATION:Teatro Tivoli BBVA\, Av. da Liberdade\, 182/188\, Lisboa\, 1250-146 \, Portugal
ATTACH;FMTTYPE=image/jpeg:http://mdemusica.pt/wp-content/uploads/2017/04/samueluria_tivoli2-750x422.jpg
END:VEVENT
BEGIN:VEVENT
DTSTART;VALUE=DATE:20170527
DTEND;VALUE=DATE:20170528
DTSTAMP:20260420T043502
CREATED:20170410T121435Z
LAST-MODIFIED:20170410T121435Z
UID:10656-1495843200-1495929599@mdemusica.pt
SUMMARY:Josef Van Wissem\, Auditório de Espinho
DESCRIPTION:
URL:http://mdemusica.pt/agenda/josef-van-wissem-auditorio-espinho/
LOCATION:Auditório de Espinho\, Rua 34\, nº884 –\, Espinho\,  4500-318 \, Portugal
ATTACH;FMTTYPE=image/jpeg:http://mdemusica.pt/wp-content/uploads/2017/04/jozef.jpg
END:VEVENT
BEGIN:VEVENT
DTSTART;VALUE=DATE:20170527
DTEND;VALUE=DATE:20170528
DTSTAMP:20260420T043502
CREATED:20170422T202936Z
LAST-MODIFIED:20170422T202936Z
UID:10836-1495843200-1495929599@mdemusica.pt
SUMMARY:Sensible Soccers\, Festival Aleste\, Funchal
DESCRIPTION:
URL:http://mdemusica.pt/agenda/sensible-soccers-festival-aleste-funchal/
LOCATION:festival Aleste\, Funchal\, Portugal
ATTACH;FMTTYPE=image/png:http://mdemusica.pt/wp-content/uploads/2017/04/unnamed.png
END:VEVENT
BEGIN:VEVENT
DTSTART;VALUE=DATE:20170527
DTEND;VALUE=DATE:20170528
DTSTAMP:20260420T043502
CREATED:20170427T154549Z
LAST-MODIFIED:20170427T154549Z
UID:10960-1495843200-1495929599@mdemusica.pt
SUMMARY:Sofia Ribeiro\, Tone Music\, Coimbra
DESCRIPTION:
URL:http://mdemusica.pt/agenda/sofia-ribeiro-tone-music-coimbra/
LOCATION:Tone Music\, R. Brg. Correia Cardoso 326\, Coimbra
ATTACH;FMTTYPE=image/jpeg:http://mdemusica.pt/wp-content/uploads/2017/04/unnamed-5.jpg
END:VEVENT
BEGIN:VEVENT
DTSTART;VALUE=DATE:20170527
DTEND;VALUE=DATE:20170528
DTSTAMP:20260420T043502
CREATED:20170511T200841Z
LAST-MODIFIED:20170511T200841Z
UID:11216-1495843200-1495929599@mdemusica.pt
SUMMARY:Mariza\, Coliseu Comendador Rondão Almeida\, Elvas
DESCRIPTION:
URL:http://mdemusica.pt/agenda/mariza-coliseu-comendador-rondao-almeida-elvas/
LOCATION:Coliseu\, Elvas
ATTACH;FMTTYPE=image/jpeg:http://mdemusica.pt/wp-content/uploads/2017/05/unnamed2-1.jpg
END:VEVENT
END:VCALENDAR