BEGIN:VCALENDAR
VERSION:2.0
PRODID:-//M de Música - ECPv5.14.1//NONSGML v1.0//EN
CALSCALE:GREGORIAN
METHOD:PUBLISH
X-WR-CALNAME:M de Música
X-ORIGINAL-URL:http://mdemusica.pt
X-WR-CALDESC:Events for M de Música
BEGIN:VTIMEZONE
TZID:Europe/Lisbon
BEGIN:DAYLIGHT
TZOFFSETFROM:+0000
TZOFFSETTO:+0100
TZNAME:WEST
DTSTART:20170326T010000
END:DAYLIGHT
BEGIN:STANDARD
TZOFFSETFROM:+0100
TZOFFSETTO:+0000
TZNAME:WET
DTSTART:20171029T010000
END:STANDARD
END:VTIMEZONE
BEGIN:VEVENT
DTSTART;VALUE=DATE:20170519
DTEND;VALUE=DATE:20170520
DTSTAMP:20260420T043418
CREATED:20170206T161241Z
LAST-MODIFIED:20170206T161241Z
UID:9824-1495152000-1495238399@mdemusica.pt
SUMMARY:Mísia\, Centro Cultural de Belém\, Lisboa
DESCRIPTION:
URL:http://mdemusica.pt/agenda/misia-centro-cultural-belem-lisboa/
LOCATION:Centro Cultural de Belém\, Praça do Império\, \, Lisboa\, 1449-003 \, Portugal
ATTACH;FMTTYPE=image/jpeg:http://mdemusica.pt/wp-content/uploads/2017/02/Mísia-Centro-Cultural-de-Belém-Lisboa.jpeg
END:VEVENT
BEGIN:VEVENT
DTSTART;VALUE=DATE:20170519
DTEND;VALUE=DATE:20170520
DTSTAMP:20260420T043418
CREATED:20170511T195605Z
LAST-MODIFIED:20170511T195605Z
UID:11199-1495152000-1495238399@mdemusica.pt
SUMMARY:10Cotexas - Discotexas 10 Year Party\, Plano B\, Porto
DESCRIPTION:
URL:http://mdemusica.pt/agenda/10cotexas-discotexas-10-year-party-plano-b-porto/
LOCATION:Plano B\, Porto\, Portugal
ATTACH;FMTTYPE=image/png:http://mdemusica.pt/wp-content/uploads/2017/05/unnamed.png
END:VEVENT
BEGIN:VEVENT
DTSTART;TZID=Europe/Lisbon:20170519T080000
DTEND;TZID=Europe/Lisbon:20170519T170000
DTSTAMP:20260420T043418
CREATED:20170410T115942Z
LAST-MODIFIED:20170410T115942Z
UID:10647-1495180800-1495213200@mdemusica.pt
SUMMARY:Aline Frazão\, Auditório de Espinho
DESCRIPTION:
URL:http://mdemusica.pt/agenda/aline-frazao-auditorio-espinho/
LOCATION:Auditório de Espinho\, Rua 34\, nº884 –\, Espinho\,  4500-318 \, Portugal
ATTACH;FMTTYPE=image/jpeg:http://mdemusica.pt/wp-content/uploads/2016/11/programa21-1.jpg
END:VEVENT
END:VCALENDAR